BEGIN:VCALENDAR
VERSION:2.0
PRODID:-//Phenix City, Alabama - ECPv6.15.13.1//NONSGML v1.0//EN
CALSCALE:GREGORIAN
METHOD:PUBLISH
X-WR-CALNAME:Phenix City, Alabama
X-ORIGINAL-URL:https://phenixcityal.gov
X-WR-CALDESC:Events for Phenix City, Alabama
REFRESH-INTERVAL;VALUE=DURATION:PT1H
X-Robots-Tag:noindex
X-PUBLISHED-TTL:PT1H
BEGIN:VTIMEZONE
TZID:America/New_York
BEGIN:DAYLIGHT
TZOFFSETFROM:-0500
TZOFFSETTO:-0400
TZNAME:EDT
DTSTART:20160313T070000
END:DAYLIGHT
BEGIN:STANDARD
TZOFFSETFROM:-0400
TZOFFSETTO:-0500
TZNAME:EST
DTSTART:20161106T060000
END:STANDARD
BEGIN:DAYLIGHT
TZOFFSETFROM:-0500
TZOFFSETTO:-0400
TZNAME:EDT
DTSTART:20170312T070000
END:DAYLIGHT
BEGIN:STANDARD
TZOFFSETFROM:-0400
TZOFFSETTO:-0500
TZNAME:EST
DTSTART:20171105T060000
END:STANDARD
BEGIN:DAYLIGHT
TZOFFSETFROM:-0500
TZOFFSETTO:-0400
TZNAME:EDT
DTSTART:20180311T070000
END:DAYLIGHT
BEGIN:STANDARD
TZOFFSETFROM:-0400
TZOFFSETTO:-0500
TZNAME:EST
DTSTART:20181104T060000
END:STANDARD
END:VTIMEZONE
BEGIN:VEVENT
DTSTART;TZID=America/New_York:20170306T140000
DTEND;TZID=America/New_York:20170306T150000
DTSTAMP:20260420T013746
CREATED:20170223T210433Z
LAST-MODIFIED:20170223T210433Z
UID:10002577-1488808800-1488812400@phenixcityal.gov
SUMMARY:City Council Meeting with Historic Preservation Commission
DESCRIPTION:Notice is hereby given that the members of the City Council of the City of Phenix City\, Alabama\, will meet with the members of the Historic Preservation Commission at 2 p.m.\, Eastern Time\, Monday\, March 6\, 2017\, in the Third Floor Conference Room of the Municipal Building\, located at 601 12th Street\, Phenix City\, Alabama. \nThe purpose of this meeting will be to review Historic Preservation maps. \nView the official Public Notice.
URL:https://phenixcityal.gov/events/city-council-meeting-historic-preservation-commission/
LOCATION:Municipal Building\, 601 12th St.\, Phenix City\, AL\, 36867\, United States
CATEGORIES:Board Meeting,Council Meeting
GEO:32.468767;-85.001006
X-APPLE-STRUCTURED-LOCATION;VALUE=URI;X-ADDRESS=Municipal Building 601 12th St. Phenix City AL 36867 United States;X-APPLE-RADIUS=500;X-TITLE=601 12th St.:geo:-85.001006,32.468767
END:VEVENT
BEGIN:VEVENT
DTSTART;TZID=America/New_York:20170308T090000
DTEND;TZID=America/New_York:20170308T090000
DTSTAMP:20260420T013746
CREATED:20170119T214240Z
LAST-MODIFIED:20170119T214240Z
UID:10002570-1488963600-1488963600@phenixcityal.gov
SUMMARY:BID: F17-02 Uniforms @ 9 a.m. EST
DESCRIPTION:Notice is hereby given that the City of Phenix City\, Alabama will receive sealed bids for “Bid Number F17-02\, Uniform Bid” until 8:45 AM EST\, on March 08\, 2017 \, in the Finance Department of the City of Phenix City\, 601 12th Street\, 2nd Floor – Finance Department\, Phenix City\, AL 36867. The official bid opening will be 9:00 AM EST on March 08\, 2017 in the City Council Chamber at City Hall\, 1111 Broad Street\, Phenix City\, Alabama 36867. \nThe following specifications shall apply: \n1. All bids must be submitted on the “Uniform Bid Submittal Form” (linked below) with compliance with each specification indicated and sealed in an envelope with the words “F17-02 Uniform Bid” clearly marked on the outside of the envelope. Bids should be mailed or hand-delivered to the City of Phenix City\, Finance Department -2nd Floor\, Attn: Purchasing Agent\, 601 12th Street\, Phenix City\, AL 36867. Bids received after the close time will not be considered. \n2. The award will be to the lowest responsible bidder meeting specifications. The City of Phenix City reserves the right to reject any or all bids. Quality\, conformity to specifications\, past service and experience of bidders will be considered. \n3. The “F17-02 Uniform Bid” is divided into eleven (11) separate sections. Bidders are encouraged to bid on all or a separate section(s). \n4. Bidders can submit multi bids for all or one sections with different brand and or manufacturer name. These bids must be separate bids with brand and or manufacturers product name and catalog number. \n5. Bidders MUST attend the Pre-Bid Uniform Meeting displaying the same merchandise that is being bidded. (See pre-bid meeting packet below). \n6. A bid bond or bank certified check in the amount of $1\,000.00 will be required. Bid security shall be a bond provided by a surety company authorized to do business in the State\, or in the form of a bank certified check. Failure to furnish a bid bond or bank certified check will cause the bid to be rejected. \n7. The terms of this contract period shall be for three (3) years\, with the option for 2 – 1 year renewal objections\, if agreeable by both parties. \n8. Prices quoted on the bid form must include all cost of hems\, waist\, and seat adjustments for new uniforms. \n9. All bidders must include charges for plus sizes (oversize) uniforms as indicated. \n\n10. Any exceptions and or substitutions of the specifications and/or items of items should be listed in a detailed description on a separate sheet attached to this bid. \n11. Bids must be submitted on this form printed in ink or typed\, signed in ink\, and notarized. \n12. No errors shall be corrected after the bids are opened. In the event of a discrepancy unit prices shall govern. \nAny questions concerning the specifications should be directed to the Purchasing Agent\, L. Maria Miley at (334) 478-2735. \nBid Specifications & Bid Form \nPre-Bid Meeting Information
URL:https://phenixcityal.gov/events/bid-f17-02-uniforms-9-m-est/
LOCATION:Council Chambers\, 1111 Broad St.\, Phenix City\, AL\, 36867\, United States
CATEGORIES:Bid Opportunities
GEO:32.467981;-85.000891
X-APPLE-STRUCTURED-LOCATION;VALUE=URI;X-ADDRESS=Council Chambers 1111 Broad St. Phenix City AL 36867 United States;X-APPLE-RADIUS=500;X-TITLE=1111 Broad St.:geo:-85.000891,32.467981
END:VEVENT
BEGIN:VEVENT
DTSTART;TZID=America/New_York:20170309T070000
DTEND;TZID=America/New_York:20170309T070000
DTSTAMP:20260420T013746
CREATED:20170308T215827Z
LAST-MODIFIED:20170308T215827Z
UID:10002579-1489042800-1489042800@phenixcityal.gov
SUMMARY:4th Annual Mayor's Prayer Breakfast
DESCRIPTION:Media Release\n4th Annual Mayor’s Unity in Prayer Breakfast\nPresented by Phenix City Mayor Eddie Lowe and the Lee-Russell Ministerial Association \nThursday\, March 9\, 2017 \nBreakfast – 7:00 a.m. EST\, program begins at 7:30 a.m. | Martin-Idle Hour Park Community Center \nGUEST SPEAKER\nRev. Amy Persons Parkes\, pastor\nSt. Andrews United Methodist Church\nPanama City\, Florida \nWe hope to see you at the breakfast as we gather to pray for the betterment of our city for our citizens.
URL:https://phenixcityal.gov/events/4th-annual-mayors-prayer-breakfast/
LOCATION:Martin-Idle Hour Park Community Center\, 3743 Moon Lake Drive\, Phenix City\, AL\, 36867\, United States
CATEGORIES:Special Event
GEO:32.498832;-85.012821
X-APPLE-STRUCTURED-LOCATION;VALUE=URI;X-ADDRESS=Martin-Idle Hour Park Community Center 3743 Moon Lake Drive Phenix City AL 36867 United States;X-APPLE-RADIUS=500;X-TITLE=3743 Moon Lake Drive:geo:-85.012821,32.498832
END:VEVENT
BEGIN:VEVENT
DTSTART;TZID=America/New_York:20170310T200000
DTEND;TZID=America/New_York:20170310T200000
DTSTAMP:20260420T013746
CREATED:20170207T170032Z
LAST-MODIFIED:20170310T164038Z
UID:10002574-1489176000-1489176000@phenixcityal.gov
SUMMARY:Chris Janson @ the Amphitheater
DESCRIPTION:CHRIS JANSON @ THE AMPHITHEATER\nCountry music lovers\, get ready for the big party at the Phenix City Amphitheater located on the banks of the beautiful Chattahoochee River! Nashville songwriter / recording artist CHRIS JANSON will be performing his hit songs “Buy Me A Boat\,” “Holdin’ Her\,” and many other songs that he has written that other artists such as Tim McGraw and other established artists have recorded. CHRIS JANSON is not only a very talented songwriter\, but such a great performer! He has performed at the Grand Ole Opry more than 145 times! Tickets may be purchased online or at the gate for only $30. Guests may purchase food from gourmet food trucks\, and adult beverages will be served. (No coolers or pets allowed). Gates open at 7 p.m.\, EASTERN TIME\, and show begins at 8 p.m. Opening the show will be Krissy and Tommy Andrews! This concert is brought to you by Phenix City Parks and Recreation and KISSIN 99.3. \nOnline tickets are available until 4 p.m.\, Eastern Time on the day of the show. After that\, guests will need to purchase tickets at the gate. \nBUY TICKETS
URL:https://phenixcityal.gov/events/chris-janson-amphitheater/
LOCATION:Phenix City Amphitheater\, 508 Dillingham St.\, Phenix City\, AL\, 36867\, United States
CATEGORIES:Concert,Special Event
ATTACH;FMTTYPE=image/jpeg:https://phenixcityal.gov/wp-content/uploads/2017/02/Chris-Janson-Logo.jpg
GEO:32.464159;-84.998613
X-APPLE-STRUCTURED-LOCATION;VALUE=URI;X-ADDRESS=Phenix City Amphitheater 508 Dillingham St. Phenix City AL 36867 United States;X-APPLE-RADIUS=500;X-TITLE=508 Dillingham St.:geo:-84.998613,32.464159
END:VEVENT
END:VCALENDAR