BEGIN:VCALENDAR
VERSION:2.0
PRODID:-//Phenix City, Alabama - ECPv6.15.13.1//NONSGML v1.0//EN
CALSCALE:GREGORIAN
METHOD:PUBLISH
X-ORIGINAL-URL:https://phenixcityal.gov
X-WR-CALDESC:Events for Phenix City, Alabama
REFRESH-INTERVAL;VALUE=DURATION:PT1H
X-Robots-Tag:noindex
X-PUBLISHED-TTL:PT1H
BEGIN:VTIMEZONE
TZID:America/New_York
BEGIN:DAYLIGHT
TZOFFSETFROM:-0500
TZOFFSETTO:-0400
TZNAME:EDT
DTSTART:20160313T070000
END:DAYLIGHT
BEGIN:STANDARD
TZOFFSETFROM:-0400
TZOFFSETTO:-0500
TZNAME:EST
DTSTART:20161106T060000
END:STANDARD
BEGIN:DAYLIGHT
TZOFFSETFROM:-0500
TZOFFSETTO:-0400
TZNAME:EDT
DTSTART:20170312T070000
END:DAYLIGHT
BEGIN:STANDARD
TZOFFSETFROM:-0400
TZOFFSETTO:-0500
TZNAME:EST
DTSTART:20171105T060000
END:STANDARD
BEGIN:DAYLIGHT
TZOFFSETFROM:-0500
TZOFFSETTO:-0400
TZNAME:EDT
DTSTART:20180311T070000
END:DAYLIGHT
BEGIN:STANDARD
TZOFFSETFROM:-0400
TZOFFSETTO:-0500
TZNAME:EST
DTSTART:20181104T060000
END:STANDARD
END:VTIMEZONE
BEGIN:VEVENT
DTSTART;TZID=America/New_York:20170220T080000
DTEND;TZID=America/New_York:20170220T170000
DTSTAMP:20260420T024134
CREATED:20161129T165154Z
LAST-MODIFIED:20161129T165154Z
UID:10002438-1487577600-1487610000@phenixcityal.gov
SUMMARY:CITY OFFICES CLOSED: Presidents' Day Holiday Observed
DESCRIPTION:City offices will be closed Monday\, February 20\, 2017\, to observe the Presidents’ Day holiday. Offices will reopen Tuesday\, February 21\, 2017\, at 8 a.m.\, Eastern Time.
URL:https://phenixcityal.gov/events/city-offices-closed-presidents-day-holiday-observed/
LOCATION:City of Phenix City\, 601 12th St.\, Phenix City\, AL\, 36867\, United States
CATEGORIES:Holiday
GEO:32.4690636;-85.000775
X-APPLE-STRUCTURED-LOCATION;VALUE=URI;X-ADDRESS=City of Phenix City 601 12th St. Phenix City AL 36867 United States;X-APPLE-RADIUS=500;X-TITLE=601 12th St.:geo:-85.000775,32.4690636
END:VEVENT
BEGIN:VEVENT
DTSTART;TZID=America/New_York:20170222T090000
DTEND;TZID=America/New_York:20170222T090000
DTSTAMP:20260420T024134
CREATED:20170120T214908Z
LAST-MODIFIED:20170120T214908Z
UID:10002571-1487754000-1487754000@phenixcityal.gov
SUMMARY:Public Hearing: Rezone of 33rd Avenue & 7th Street
DESCRIPTION:Notice is hereby given that the City Council of the City of Phenix City\, Alabama\, in response to a request made by the Planning Commission of the City of Phenix City\, Alabama\, will meet on the 22nd day of February\, 2017\, at 9 a.m.\, Eastern Time\, in the City Council Chambers\, Public Safety Building\, Phenix City\, Alabama\, to consider the following amendment to the Zoning Ordinance of the City of Phenix City\, Alabama. \nView the full Public Notice and proposed change.
URL:https://phenixcityal.gov/events/public-hearing-rezone-33rd-avenue-7th-street/
LOCATION:Council Chambers\, 1111 Broad St.\, Phenix City\, AL\, 36867\, United States
CATEGORIES:Public Hearing
GEO:32.467981;-85.000891
X-APPLE-STRUCTURED-LOCATION;VALUE=URI;X-ADDRESS=Council Chambers 1111 Broad St. Phenix City AL 36867 United States;X-APPLE-RADIUS=500;X-TITLE=1111 Broad St.:geo:-85.000891,32.467981
END:VEVENT
BEGIN:VEVENT
DTSTART;TZID=America/New_York:20170224T000000
DTEND;TZID=America/New_York:20170226T235500
DTSTAMP:20260420T024134
CREATED:20161021T142949Z
LAST-MODIFIED:20161021T142949Z
UID:10002425-1487894400-1488153300@phenixcityal.gov
SUMMARY:Severe Weather Preparedness Tax Holiday
DESCRIPTION:In conformity with the provisions Act 2012-256\, enacted by the Alabama Legislature during the 2012 Regular Session\, providing for a State Sales and Use Tax Holiday\, the City of Phenix City\, Alabama\, exempts “covered items” from municipal sales and use tax during the same period\, beginning at 12:01 a.m. on Friday\, February 24\, 2017\, and ending at 12 midnight on Sunday\, February 26\, 2017. \nView Ordinance No. 2016-16 regarding the approval of this holiday. \nCovered Items\nSome of the covered items include batteries\, weather radios\, flashlights\, duct tape\, plywood\, ice packs\, and more. Review the full list of covered items in Act 2012-256.
URL:https://phenixcityal.gov/events/severe-weather-preparedness-tax-holiday/
LOCATION:City of Phenix City\, 601 12th St.\, Phenix City\, AL\, 36867\, United States
CATEGORIES:Tax Holiday
GEO:32.4690636;-85.000775
X-APPLE-STRUCTURED-LOCATION;VALUE=URI;X-ADDRESS=City of Phenix City 601 12th St. Phenix City AL 36867 United States;X-APPLE-RADIUS=500;X-TITLE=601 12th St.:geo:-85.000775,32.4690636
END:VEVENT
END:VCALENDAR