BEGIN:VCALENDAR
VERSION:2.0
PRODID:-//Phenix City, Alabama - ECPv6.15.13.1//NONSGML v1.0//EN
CALSCALE:GREGORIAN
METHOD:PUBLISH
X-WR-CALNAME:Phenix City, Alabama
X-ORIGINAL-URL:https://phenixcityal.gov
X-WR-CALDESC:Events for Phenix City, Alabama
REFRESH-INTERVAL;VALUE=DURATION:PT1H
X-Robots-Tag:noindex
X-PUBLISHED-TTL:PT1H
BEGIN:VTIMEZONE
TZID:America/New_York
BEGIN:DAYLIGHT
TZOFFSETFROM:-0500
TZOFFSETTO:-0400
TZNAME:EDT
DTSTART:20160313T070000
END:DAYLIGHT
BEGIN:STANDARD
TZOFFSETFROM:-0400
TZOFFSETTO:-0500
TZNAME:EST
DTSTART:20161106T060000
END:STANDARD
BEGIN:DAYLIGHT
TZOFFSETFROM:-0500
TZOFFSETTO:-0400
TZNAME:EDT
DTSTART:20170312T070000
END:DAYLIGHT
BEGIN:STANDARD
TZOFFSETFROM:-0400
TZOFFSETTO:-0500
TZNAME:EST
DTSTART:20171105T060000
END:STANDARD
BEGIN:DAYLIGHT
TZOFFSETFROM:-0500
TZOFFSETTO:-0400
TZNAME:EDT
DTSTART:20180311T070000
END:DAYLIGHT
BEGIN:STANDARD
TZOFFSETFROM:-0400
TZOFFSETTO:-0500
TZNAME:EST
DTSTART:20181104T060000
END:STANDARD
END:VTIMEZONE
BEGIN:VEVENT
DTSTART;TZID=America/New_York:20170206T150000
DTEND;TZID=America/New_York:20170206T150000
DTSTAMP:20260420T024119
CREATED:20161130T141234Z
LAST-MODIFIED:20170216T202407Z
UID:10002347-1486393200-1486393200@phenixcityal.gov
SUMMARY:City Council Work Session
DESCRIPTION:*Location Change*\n\nNotice is hereby given that the location for the regularly scheduled Phenix City Council Work Session set for 3 p.m.\, Eastern Time\, Monday\, February 6\, 2017\, has changed from the Third Floor Conference Room in the Municipal Building to the Auditorium at the Central Activity Center located at 1500 14th Street\, Phenix City\, Alabama. \nRepresentatives from the Alabama Department of Environmental Management (ADEM) will be present at the Work Session to discuss with Council the following proposed plans and ordinance: \n\nIllicit Discharge Detection and Elimination Program\nUpdates to the Storm Water Management Program Plan\nAmending the Code of Ordinances of the City of Phenix City\, adding Chapter 10 1/2 – Stormwater Management\n\nThis meeting is open to the public and all persons interested are encouraged to attend. \nThose wishing to address Council on the above issues may do so during the regularly scheduled Council meeting set for 9 a.m.\, Eastern Time\, Tuesday\, February 7\, 2017\, in the Council Chambers located in the Public Safety Building at 1111 Broad Street\, Phenix City\, Alabama. \nView the official Public Notice. \n\nAgendas & Minutes\nView the agenda and/or minutes associated with this meeting.
URL:https://phenixcityal.gov/events/city-council-work-session-4-2017-02-06/
LOCATION:Municipal Building\, 601 12th St.\, Phenix City\, AL\, 36867\, United States
CATEGORIES:Council Meeting
GEO:32.468767;-85.001006
X-APPLE-STRUCTURED-LOCATION;VALUE=URI;X-ADDRESS=Municipal Building 601 12th St. Phenix City AL 36867 United States;X-APPLE-RADIUS=500;X-TITLE=601 12th St.:geo:-85.001006,32.468767
END:VEVENT
BEGIN:VEVENT
DTSTART;TZID=America/New_York:20170207T090000
DTEND;TZID=America/New_York:20170207T090000
DTSTAMP:20260420T024119
CREATED:20170104T150014Z
LAST-MODIFIED:20170216T202407Z
UID:10002538-1486458000-1486458000@phenixcityal.gov
SUMMARY:Public Hearing: Illicit Discharge Detection & Elimination Program
DESCRIPTION:Public Hearing\nNotice is hereby given that the City of Phenix City wishes to implement an Illicit Discharge Detection and Elimination Program (IDDE) as required by the Alabama Department of Environmental Management National Pollutant Discharge Elimination System (NPDES) in order to maintain the City of Phenix City’s Municipal Separate Storm Sewer System (MS4) Permit. \nThe proposed plan has been developed to ensure that pollutants originating from industrial\, commercial\, residential\, or urban developments do not enter into the City of Phenix City’s Storm Sewer System (MS4) or the Waters of the State. \nA Public Hearing on the matter will be conducted during the regularly scheduled council meeting set for 9 a.m.\, Eastern Time\, Tuesday\, February 7\, 2017\, in the Council Chambers\, located within the Public Safety Building\, at 1111 Broad Street\, Phenix City\, Alabama 36867. Said hearing shall be open to the public. All interested parties are encouraged to attend. \nA copy of the proposed Illicit Discharge Detection and Elimination Program (IDDE) is available for public inspection in the Office of the City Clerk\, located at 601 12th Street\, Phenix City\, Alabama 36867\, between the hours of 8 a.m. and 5 p.m.\, Eastern Time\, Monday through Friday. Said proposed plan is also available for review on the City of Phenix City website’s Proposed Plans page. \nView the official Public Notice. \nWork Session Meeting\n\nNotice is hereby given that the location for the regularly scheduled Phenix City Council Work Session set for 3 p.m.\, Eastern Time\, Monday\, February 6\, 2017\, has changed from the Third Floor Conference Room in the Municipal Building to the Auditorium at the Central Activity Center located at 1500 14th Street\, Phenix City\, Alabama. \nRepresentatives from the Alabama Department of Environmental Management (ADEM) will be present at the Work Session to discuss with Council the following proposed plans and ordinance: \n\nIllicit Discharge Detection and Elimination Program\nUpdates to the Storm Water Management Program Plan\nAmending the Code of Ordinances of the City of Phenix City\, adding Chapter 10 1/2 – Stormwater Management\n\nThis meeting is open to the public and all persons interested are encouraged to attend. \nThose wishing to address Council on the above issues may do so during the regularly scheduled Council meeting set for 9 a.m.\, Eastern Time\, Tuesday\, February 7\, 2017\, in the Council Chambers located in the Public Safety Building at 1111 Broad Street\, Phenix City\, Alabama. \nView the official Public Notice.
URL:https://phenixcityal.gov/events/public-hearing-illicit-discharge-detection-elimination-program/
LOCATION:Council Chambers\, 1111 Broad St.\, Phenix City\, AL\, 36867\, United States
CATEGORIES:Public Hearing
GEO:32.467981;-85.000891
X-APPLE-STRUCTURED-LOCATION;VALUE=URI;X-ADDRESS=Council Chambers 1111 Broad St. Phenix City AL 36867 United States;X-APPLE-RADIUS=500;X-TITLE=1111 Broad St.:geo:-85.000891,32.467981
END:VEVENT
BEGIN:VEVENT
DTSTART;TZID=America/New_York:20170207T090000
DTEND;TZID=America/New_York:20170207T090000
DTSTAMP:20260420T024119
CREATED:20170104T150016Z
LAST-MODIFIED:20170216T202407Z
UID:10002545-1486458000-1486458000@phenixcityal.gov
SUMMARY:Public Hearing: Storm Water Management Program Plan
DESCRIPTION:Public Hearing\nNotice is hereby given that the City of Phenix City wishes to update its Storm Water Management Program Plan (SWMPP) as required by the Alabama Department of Environmental Management National Pollutant Discharge Elimination System (NPDES). \nThe proposed plan has been updated to address public education\, illicit discharges\, pre/post-construction water runoff\, pollution prevention\, and good housekeeping for the city. \nA Public Hearing on the matter will be conducted during the regularly scheduled council meeting set for 9 a.m.\, Eastern Time\, Tuesday\, February 7\, 2017\, in the Council Chambers\, located within the Public Safety Building\, at 1111 Broad Street\, Phenix City\, Alabama 36867. Said hearing shall be open to the public. All interested parties are encouraged to attend. \nA copy of the proposed Storm Water Management Program Plan (SWMPP) is available for public inspection in the Office of the City Clerk\, located at 601 12th Street\, Phenix City\, Alabama 36867\, between the hours of 8 a.m. and 5 p.m.\, Eastern Time\, Monday through Friday. Said proposed plan is also available for review on the City of Phenix City website’s Proposed Plans page. \nView the official Public Notice. \nWork Session Meeting\n\nNotice is hereby given that the location for the regularly scheduled Phenix City Council Work Session set for 3 p.m.\, Eastern Time\, Monday\, February 6\, 2017\, has changed from the Third Floor Conference Room in the Municipal Building to the Auditorium at the Central Activity Center located at 1500 14th Street\, Phenix City\, Alabama. \nRepresentatives from the Alabama Department of Environmental Management (ADEM) will be present at the Work Session to discuss with Council the following proposed plans and ordinance: \n\nIllicit Discharge Detection and Elimination Program\nUpdates to the Storm Water Management Program Plan\nAmending the Code of Ordinances of the City of Phenix City\, adding Chapter 10 1/2 – Stormwater Management\n\nThis meeting is open to the public and all persons interested are encouraged to attend. \nThose wishing to address Council on the above issues may do so during the regularly scheduled Council meeting set for 9 a.m.\, Eastern Time\, Tuesday\, February 7\, 2017\, in the Council Chambers located in the Public Safety Building at 1111 Broad Street\, Phenix City\, Alabama. \nView the official Public Notice.
URL:https://phenixcityal.gov/events/public-hearing-storm-water-management-program-plan/
LOCATION:Council Chambers\, 1111 Broad St.\, Phenix City\, AL\, 36867\, United States
CATEGORIES:Public Hearing
GEO:32.467981;-85.000891
X-APPLE-STRUCTURED-LOCATION;VALUE=URI;X-ADDRESS=Council Chambers 1111 Broad St. Phenix City AL 36867 United States;X-APPLE-RADIUS=500;X-TITLE=1111 Broad St.:geo:-85.000891,32.467981
END:VEVENT
BEGIN:VEVENT
DTSTART;TZID=America/New_York:20170207T090000
DTEND;TZID=America/New_York:20170207T090000
DTSTAMP:20260420T024119
CREATED:20170105T150301Z
LAST-MODIFIED:20170216T202407Z
UID:10002546-1486458000-1486458000@phenixcityal.gov
SUMMARY:Public Hearing: Proposed Stormwater Ordinance
DESCRIPTION:Public Hearing\nNotice is hereby given that the City Council of the City of Phenix City\, Alabama\, will meet on the 7th day of February\, 2017\, at 9 a.m.\, Eastern Time\, in the Council Chambers located at 1111 Broad Street\, Phenix City\, Alabama\, to consider an ordinance to amend the Code of Ordinances of the City of Phenix City\, Alabama\, adding a chapter relating to Stormwater Management\, to regulate discharges and connections to storm sewer systems within the corporate limits of the City of Phenix City. \nAt said public hearing\, all persons desiring to be heard concerning the proposed amendments may appear before the City Council at the aforementioned time and place. \nThe Public Notice and Proposed Ordinance was published in its entirety in the Citizen News on January 12\, 2017. A copy of the Ordinance itself can be viewed in the City Clerk’s Office\, Monday through Friday\, between the hours of 8 a.m. and 5 p.m.\, Eastern Time\, and on the website on the Proposed Plans page. \nView the official Public Notice. \nWork Session Meeting\n\nNotice is hereby given that the location for the regularly scheduled Phenix City Council Work Session set for 3 p.m.\, Eastern Time\, Monday\, February 6\, 2017\, has changed from the Third Floor Conference Room in the Municipal Building to the Auditorium at the Central Activity Center located at 1500 14th Street\, Phenix City\, Alabama. \nRepresentatives from the Alabama Department of Environmental Management (ADEM) will be present at the Work Session to discuss with Council the following proposed plans and ordinance: \n\nIllicit Discharge Detection and Elimination Program\nUpdates to the Storm Water Management Program Plan\nAmending the Code of Ordinances of the City of Phenix City\, adding Chapter 10 1/2 – Stormwater Management\n\nThis meeting is open to the public and all persons interested are encouraged to attend. \nThose wishing to address Council on the above issues may do so during the regularly scheduled Council meeting set for 9 a.m.\, Eastern Time\, Tuesday\, February 7\, 2017\, in the Council Chambers located in the Public Safety Building at 1111 Broad Street\, Phenix City\, Alabama. \nView the official Public Notice.
URL:https://phenixcityal.gov/events/public-hearing-proposed-stormwater-ordinance/
LOCATION:Council Chambers\, 1111 Broad St.\, Phenix City\, AL\, 36867\, United States
CATEGORIES:Public Hearing
GEO:32.467981;-85.000891
X-APPLE-STRUCTURED-LOCATION;VALUE=URI;X-ADDRESS=Council Chambers 1111 Broad St. Phenix City AL 36867 United States;X-APPLE-RADIUS=500;X-TITLE=1111 Broad St.:geo:-85.000891,32.467981
END:VEVENT
BEGIN:VEVENT
DTSTART;TZID=America/New_York:20170210T100000
DTEND;TZID=America/New_York:20170210T100000
DTSTAMP:20260420T024119
CREATED:20170127T161638Z
LAST-MODIFIED:20170127T161638Z
UID:10002573-1486720800-1486720800@phenixcityal.gov
SUMMARY:BID: E17-02 Hot Mix Asphalt @ 10 a.m. EST
DESCRIPTION:Notice is hereby given that the City of Phenix City\, Alabama will receive sealed bids for “Bid Number  E17-02\, Hot Mix Asphalt” until 9:45 a.m. EST on February 10\, 2017\, and the official bid opening will be at 10 a.m. EST in the City Council Chambers at City Hall:\n1111 Broad Street\nPhenix City\, AL 36867 \nSpecifications & Bid Form\nAll bids must be submitted by 9:45 a.m. EST on February 10\, 2017\, on the bid form (linked below) with compliance with each specification indicated and sealed in an envelope with the words “Bid Number E17-02\, Hot Mix Asphalt” clearly marked on the outside of the envelope.  Bids should be mailed or hand-delivered to:\nCity of Phenix City Finance Department\nAttn: Purchasing Agent\n601 12th St.\nSecond Floor\nPhenix City\, AL 36867. \nBids received after 9:45 a.m. EST on February 10\, 2017\, will not be considered. \nReview the full bid specifications and bid form.
URL:https://phenixcityal.gov/events/bid-e17-02-hot-mix-asphalt-10am/
LOCATION:Council Chambers\, 1111 Broad St.\, Phenix City\, AL\, 36867\, United States
CATEGORIES:Bid Opportunities
GEO:32.467981;-85.000891
X-APPLE-STRUCTURED-LOCATION;VALUE=URI;X-ADDRESS=Council Chambers 1111 Broad St. Phenix City AL 36867 United States;X-APPLE-RADIUS=500;X-TITLE=1111 Broad St.:geo:-85.000891,32.467981
END:VEVENT
END:VCALENDAR