BEGIN:VCALENDAR
VERSION:2.0
PRODID:-//Phenix City, Alabama - ECPv6.15.13.1//NONSGML v1.0//EN
CALSCALE:GREGORIAN
METHOD:PUBLISH
X-WR-CALNAME:Phenix City, Alabama
X-ORIGINAL-URL:https://phenixcityal.gov
X-WR-CALDESC:Events for Phenix City, Alabama
REFRESH-INTERVAL;VALUE=DURATION:PT1H
X-Robots-Tag:noindex
X-PUBLISHED-TTL:PT1H
BEGIN:VTIMEZONE
TZID:America/New_York
BEGIN:DAYLIGHT
TZOFFSETFROM:-0500
TZOFFSETTO:-0400
TZNAME:EDT
DTSTART:20160313T070000
END:DAYLIGHT
BEGIN:STANDARD
TZOFFSETFROM:-0400
TZOFFSETTO:-0500
TZNAME:EST
DTSTART:20161106T060000
END:STANDARD
BEGIN:DAYLIGHT
TZOFFSETFROM:-0500
TZOFFSETTO:-0400
TZNAME:EDT
DTSTART:20170312T070000
END:DAYLIGHT
BEGIN:STANDARD
TZOFFSETFROM:-0400
TZOFFSETTO:-0500
TZNAME:EST
DTSTART:20171105T060000
END:STANDARD
BEGIN:DAYLIGHT
TZOFFSETFROM:-0500
TZOFFSETTO:-0400
TZNAME:EDT
DTSTART:20180311T070000
END:DAYLIGHT
BEGIN:STANDARD
TZOFFSETFROM:-0400
TZOFFSETTO:-0500
TZNAME:EST
DTSTART:20181104T060000
END:STANDARD
END:VTIMEZONE
BEGIN:VEVENT
DTSTART;TZID=America/New_York:20170129T140000
DTEND;TZID=America/New_York:20170129T170000
DTSTAMP:20260419T233818
CREATED:20170126T212026Z
LAST-MODIFIED:20170126T212026Z
UID:10002572-1485698400-1485709200@phenixcityal.gov
SUMMARY:Free Baseball Clinic @ Idle Hour Sports Complex
DESCRIPTION:More Than A Game Presents: Free Baseball Clinic\nFree Baseball Clinic\nJanuary 29th\, 2:00 PM-5:00 PM (EST)\nIdle Hour Sports Complex\nAges 6-12 \nJoin More Than a Game\, Colby Rasmus\, Anfernee Grier (1st Rd Draft Choice\, Arizona Diamondbacks)\, Bryan Woodall (Chinese Professional Baseball League)\, Josh Lester (Detroit Tigers) & Local Baseball Programs in providing an instructional baseball clinic and equipment giveaway at Idle Hour Sports Complex. \n*Instruction by Professional Players\n*Instruction by Local High School Coaches & Players\n*Equipment Giveaways \nSee the official Flyer and Player Waiver \nMore Than A Game is a non-profit\, 501(c)3\, organization that uses athletics as a vehicle to impact lives domestically and around the world through field construction\, equipment donations\, instructional clinics and community service projects truly making it… “More Than A Game.” Visit their website.
URL:https://phenixcityal.gov/events/free-baseball-clinic-idle-hour-sports-complex/
LOCATION:Idle Hour Sports Complex\, 900 Airport Road\, Phenix City\, AL\, 36867\, United States
CATEGORIES:Parks & Recreation
GEO:32.500008;-85.004525
X-APPLE-STRUCTURED-LOCATION;VALUE=URI;X-ADDRESS=Idle Hour Sports Complex 900 Airport Road Phenix City AL 36867 United States;X-APPLE-RADIUS=500;X-TITLE=900 Airport Road:geo:-85.004525,32.500008
END:VEVENT
BEGIN:VEVENT
DTSTART;TZID=America/New_York:20170130T140000
DTEND;TZID=America/New_York:20170130T140000
DTSTAMP:20260419T233818
CREATED:20170113T212120Z
LAST-MODIFIED:20170113T212120Z
UID:10002569-1485784800-1485784800@phenixcityal.gov
SUMMARY:BID: Demolition of Structures 2017-1 @ 2 p.m. EST
DESCRIPTION:Notice for Bids\nDEMOLITION OF STRUCTURES 2017-1\nThe City of Phenix City\, Alabama will accept individual bids (without dumping fees) by licensed Phenix City contractors to demolish the SEVEN (7) structures located as follows: \n\n1908 4th Avenue\, Phenix City\, AL\n1001 16th Street\, Phenix City\, AL\n1029 4th Street South\, Phenix City\, AL\n1031 4th Street South\, Phenix City\, AL\n1033 4th Street South\, Phenix City\, AL\n1035 4th Street South\, Phenix City\, AL\n1037 4th Street South\, Phenix City\, AL\n\nIf your bid is greater than $10\,000.00\, a 5% bond or cashier’s check must accompany your bid. Any bid exceeding $10\,000.00 which does not have either a cashier’s check or bond at bid opening shall not be considered. Each property shall be bid individually. If unsure about structure/lot location contact the Phenix City Building Department for verification. \nAll sewer lines must be capped before being covered. All utility connections must be disconnected and secured. All debris and accumulation of materials resulting from demolition or any building shall be removed from the premises and disposed of properly. Grade lot to prevent standing of water. \nPermanent Grassing Specifications: \nA Spreader is required to distribute seed/fertilizer.\nMarch 1 to August 31 – Common Bermuda grass (Hulled) 10 lbs/acre\nSeptember 1 to March 1 – Common Bermuda grass (Unhulled) 10 lbs/acre and Annual Ryegrass 10 lbs/acre \nFertilizer Rate: \n\nNitrogen: 5% – 10% | 60 – 90 lbs/acre\nPhosphorous: 10% – 15% | 120 – 180 lbs/acre\nPotassium: 10% – 15% | 120 – 180 lbs/acre\nMulch: 1000 lbs/acre\nLime: 500 lbs/acre\n\nAll work shall be completed within thirty (30) days of the bid being let. \nPayment\, in full\, shall be awarded after the completion of a final inspection. There will be no partial payments. All work shall be performed in compliance with Federal\, State\, and the International Building Code\, 2012 Edition\, Section 3303. \nThe right is reserved to accept or reject all or any parts of your offer and to accept the offer the City Council considers the most advantageous to the City. \nThe City of Phenix City is exempt from all federal excise taxes. Do not include tax in your bid price. \nClosed bids with cashier’s check or bid bond if bid exceeds $10\,000.00 should be submitted to the Purchasing Agent in the Finance Department located at 601 12th Street\, Phenix City\, AL. \nBid Opening will be 2:00 P.M. EST on January 30th\, 2017. Please write on sealed envelope: Demolition of Structures 2017-1 \nView the official Notice for Bid.
URL:https://phenixcityal.gov/events/bid-demolition-structures-2017-1-2-p-m-est/
LOCATION:Council Chambers\, 1111 Broad St.\, Phenix City\, AL\, 36867\, United States
CATEGORIES:Bid Opportunities
GEO:32.467981;-85.000891
X-APPLE-STRUCTURED-LOCATION;VALUE=URI;X-ADDRESS=Council Chambers 1111 Broad St. Phenix City AL 36867 United States;X-APPLE-RADIUS=500;X-TITLE=1111 Broad St.:geo:-85.000891,32.467981
END:VEVENT
BEGIN:VEVENT
DTSTART;TZID=America/New_York:20170204T100000
DTEND;TZID=America/New_York:20170204T140000
DTSTAMP:20260419T233818
CREATED:20170110T134557Z
LAST-MODIFIED:20170216T202407Z
UID:10002561-1486202400-1486216800@phenixcityal.gov
SUMMARY:2017 Summer Camp Registration
DESCRIPTION:Phenix City Summer Camp offers full-day and half-day camps throughout the summer for children ages 6 through 14. Registration is held at the recreation center where your child will attend camp\, and is being held on February 4\, 2017\, from 10 a.m.\, to 2 p.m.\, Eastern Time. Registration is on a first-come\, first-served basis. See flyer for details\, or call 334-291-4719.
URL:https://phenixcityal.gov/events/2017-summer-camp-registration/
LOCATION:Phenix City\, AL\, United States
CATEGORIES:Parks & Recreation
END:VEVENT
END:VCALENDAR