BEGIN:VCALENDAR
VERSION:2.0
PRODID:-//Phenix City, Alabama - ECPv6.15.13.1//NONSGML v1.0//EN
CALSCALE:GREGORIAN
METHOD:PUBLISH
X-ORIGINAL-URL:https://phenixcityal.gov
X-WR-CALDESC:Events for Phenix City, Alabama
REFRESH-INTERVAL;VALUE=DURATION:PT1H
X-Robots-Tag:noindex
X-PUBLISHED-TTL:PT1H
BEGIN:VTIMEZONE
TZID:America/New_York
BEGIN:DAYLIGHT
TZOFFSETFROM:-0500
TZOFFSETTO:-0400
TZNAME:EDT
DTSTART:20150308T070000
END:DAYLIGHT
BEGIN:STANDARD
TZOFFSETFROM:-0400
TZOFFSETTO:-0500
TZNAME:EST
DTSTART:20151101T060000
END:STANDARD
BEGIN:DAYLIGHT
TZOFFSETFROM:-0500
TZOFFSETTO:-0400
TZNAME:EDT
DTSTART:20160313T070000
END:DAYLIGHT
BEGIN:STANDARD
TZOFFSETFROM:-0400
TZOFFSETTO:-0500
TZNAME:EST
DTSTART:20161106T060000
END:STANDARD
BEGIN:DAYLIGHT
TZOFFSETFROM:-0500
TZOFFSETTO:-0400
TZNAME:EDT
DTSTART:20170312T070000
END:DAYLIGHT
BEGIN:STANDARD
TZOFFSETFROM:-0400
TZOFFSETTO:-0500
TZNAME:EST
DTSTART:20171105T060000
END:STANDARD
END:VTIMEZONE
BEGIN:VEVENT
DTSTART;TZID=America/New_York:20161023T123000
DTEND;TZID=America/New_York:20161023T133000
DTSTAMP:20260419T145105
CREATED:20160316T122049Z
LAST-MODIFIED:20221028T202805Z
UID:10002371-1477225800-1477229400@phenixcityal.gov
SUMMARY:Museum Advisory Committee Meeting
DESCRIPTION:The Phenix City Museum Advisory Committee will hold its regularly scheduled monthly meeting at 12:30 p.m.\, Eastern Time\, in the Third Floor Conference Room of the Municipal Building:\n1119 Broad St.\nPhenix City\, AL 36867 \nAll meetings are open to the public. Interested parties are encouraged to attend.
URL:https://phenixcityal.gov/events/museum-advisory-committee-meeting-2016-03-23/2016-10-23/
LOCATION:Municipal Building\, 601 12th St.\, Phenix City\, AL\, 36867\, United States
CATEGORIES:Board Meeting
GEO:32.468767;-85.001006
X-APPLE-STRUCTURED-LOCATION;VALUE=URI;X-ADDRESS=Municipal Building 601 12th St. Phenix City AL 36867 United States;X-APPLE-RADIUS=500;X-TITLE=601 12th St.:geo:-85.001006,32.468767
END:VEVENT
BEGIN:VEVENT
DTSTART;TZID=America/New_York:20161025T170000
DTEND;TZID=America/New_York:20161025T190000
DTSTAMP:20260419T145105
CREATED:20161018T143739Z
LAST-MODIFIED:20170216T202407Z
UID:10002326-1477414800-1477422000@phenixcityal.gov
SUMMARY:Fall Festival @ the Library
DESCRIPTION:Fall Festival @ the Library!\nJoin us at the Phenix City-Russell County Library for a night of FREE family fun! The night will include Dwayne Reynolds with balloon magic\, face painting\, games for all ages\, prizes\, Spooky Story Time\, popcorn\, and more!
URL:https://phenixcityal.gov/events/fall-festival-library/
LOCATION:Phenix City-Russell County Library\, 1501 17th Ave.\, Phenix City\, AL\, 36867\, United States
CATEGORIES:Special Event
GEO:32.4751263;-85.0164134
X-APPLE-STRUCTURED-LOCATION;VALUE=URI;X-ADDRESS=Phenix City-Russell County Library 1501 17th Ave. Phenix City AL 36867 United States;X-APPLE-RADIUS=500;X-TITLE=1501 17th Ave.:geo:-85.0164134,32.4751263
END:VEVENT
BEGIN:VEVENT
DTSTART;TZID=America/New_York:20161028T120000
DTEND;TZID=America/New_York:20161028T120000
DTSTAMP:20260419T145105
CREATED:20161005T122350Z
LAST-MODIFIED:20161005T122350Z
UID:10002318-1477656000-1477656000@phenixcityal.gov
SUMMARY:Phenix City - Russell County Chamber of Commerce Golf Tournament
DESCRIPTION:Phenix City – Russell Co. Chamber of Commerce Golf Tournament at Lakewood Golf Course\, afternoon start
URL:https://phenixcityal.gov/events/phenix-city-russell-county-chamber-commerce-golf-tournament/
LOCATION:Lakewood Golf Course\, 2800 Lakewood Drive\, Phenix City\, AL\, 36867\, United States
CATEGORIES:Golf Course
GEO:32.5036453;-85.0325704
X-APPLE-STRUCTURED-LOCATION;VALUE=URI;X-ADDRESS=Lakewood Golf Course 2800 Lakewood Drive Phenix City AL 36867 United States;X-APPLE-RADIUS=500;X-TITLE=2800 Lakewood Drive:geo:-85.0325704,32.5036453
END:VEVENT
END:VCALENDAR