BEGIN:VCALENDAR
VERSION:2.0
PRODID:-//Phenix City, Alabama - ECPv6.15.13.1//NONSGML v1.0//EN
CALSCALE:GREGORIAN
METHOD:PUBLISH
X-ORIGINAL-URL:https://phenixcityal.gov
X-WR-CALDESC:Events for Phenix City, Alabama
REFRESH-INTERVAL;VALUE=DURATION:PT1H
X-Robots-Tag:noindex
X-PUBLISHED-TTL:PT1H
BEGIN:VTIMEZONE
TZID:America/New_York
BEGIN:DAYLIGHT
TZOFFSETFROM:-0500
TZOFFSETTO:-0400
TZNAME:EDT
DTSTART:20150308T070000
END:DAYLIGHT
BEGIN:STANDARD
TZOFFSETFROM:-0400
TZOFFSETTO:-0500
TZNAME:EST
DTSTART:20151101T060000
END:STANDARD
BEGIN:DAYLIGHT
TZOFFSETFROM:-0500
TZOFFSETTO:-0400
TZNAME:EDT
DTSTART:20160313T070000
END:DAYLIGHT
BEGIN:STANDARD
TZOFFSETFROM:-0400
TZOFFSETTO:-0500
TZNAME:EST
DTSTART:20161106T060000
END:STANDARD
BEGIN:DAYLIGHT
TZOFFSETFROM:-0500
TZOFFSETTO:-0400
TZNAME:EDT
DTSTART:20170312T070000
END:DAYLIGHT
BEGIN:STANDARD
TZOFFSETFROM:-0400
TZOFFSETTO:-0500
TZNAME:EST
DTSTART:20171105T060000
END:STANDARD
END:VTIMEZONE
BEGIN:VEVENT
DTSTART;TZID=America/New_York:20161018T090000
DTEND;TZID=America/New_York:20161018T090000
DTSTAMP:20260419T132253
CREATED:20160315T202159Z
LAST-MODIFIED:20161004T171539Z
UID:10002352-1476781200-1476781200@phenixcityal.gov
SUMMARY:City Council Meeting
DESCRIPTION:The City Council of the City of Phenix City will hold a regular meeting in the Council Chambers\, located in the Public Safety Building at 9 a.m.\, Eastern Time:\n1111 Broad St.\nPhenix City\, AL 36867 \nSaid meeting is open to the public. For more information regarding council meetings\, please contact the City Clerk’s Office\, at 334-448-2720.
URL:https://phenixcityal.gov/events/city-council-meeting-15/
LOCATION:Council Chambers\, 1111 Broad St.\, Phenix City\, AL\, 36867\, United States
CATEGORIES:Council Meeting
GEO:32.467981;-85.000891
X-APPLE-STRUCTURED-LOCATION;VALUE=URI;X-ADDRESS=Council Chambers 1111 Broad St. Phenix City AL 36867 United States;X-APPLE-RADIUS=500;X-TITLE=1111 Broad St.:geo:-85.000891,32.467981
END:VEVENT
BEGIN:VEVENT
DTSTART;TZID=America/New_York:20161020T100000
DTEND;TZID=America/New_York:20161020T100000
DTSTAMP:20260419T132253
CREATED:20161003T203123Z
LAST-MODIFIED:20161003T203123Z
UID:10002316-1476957600-1476957600@phenixcityal.gov
SUMMARY:BID: F17-01\, Copy Paper @ 10 a.m.
DESCRIPTION:F17-01\, Copy Paper\nNotice is hereby given that the City of Phenix City\, Alabama\, will receive sealed bids for Copy Paper-White until 10 a.m. on October 20\, 2016\, and publicly open immediately thereafter in the City Council Chambers at City Hall\, 1111 Broad Street\, Phenix City\, Alabama. \nSpecifications\nThe City of Phenix City estimate of usage for 8.5″ x 11″ copy paper is 320-to-350 cases per year. Smaller amounts for 8.5″ x 14″ copy paper and 11″ x 17″ copy paper. All bids must be submitted on the form below with compliance with each specification indicated\, and sealed in an envelope with the words “Copy Paper – White Bid” clearly marked on the outside of the envelope. Bids should be mailed or hand-delivered to:\nCity of Phenix City Finance Department\nAttn: Purchasing Agent\n601 12th Street\nSecond Floor\nPhenix City\, AL 36867 \nBids received after the above close time will not be considered. \n  \nView the complete Bid Specifications and Bid Form.
URL:https://phenixcityal.gov/events/bid-f17-01-copy-paper-10-m/
LOCATION:Council Chambers\, 1111 Broad St.\, Phenix City\, AL\, 36867\, United States
CATEGORIES:Bid Opportunities
GEO:32.467981;-85.000891
X-APPLE-STRUCTURED-LOCATION;VALUE=URI;X-ADDRESS=Council Chambers 1111 Broad St. Phenix City AL 36867 United States;X-APPLE-RADIUS=500;X-TITLE=1111 Broad St.:geo:-85.000891,32.467981
END:VEVENT
END:VCALENDAR