BEGIN:VCALENDAR
VERSION:2.0
PRODID:-//Phenix City, Alabama - ECPv6.15.13.1//NONSGML v1.0//EN
CALSCALE:GREGORIAN
METHOD:PUBLISH
X-ORIGINAL-URL:https://phenixcityal.gov
X-WR-CALDESC:Events for Phenix City, Alabama
REFRESH-INTERVAL;VALUE=DURATION:PT1H
X-Robots-Tag:noindex
X-PUBLISHED-TTL:PT1H
BEGIN:VTIMEZONE
TZID:America/New_York
BEGIN:DAYLIGHT
TZOFFSETFROM:-0500
TZOFFSETTO:-0400
TZNAME:EDT
DTSTART:20150308T070000
END:DAYLIGHT
BEGIN:STANDARD
TZOFFSETFROM:-0400
TZOFFSETTO:-0500
TZNAME:EST
DTSTART:20151101T060000
END:STANDARD
BEGIN:DAYLIGHT
TZOFFSETFROM:-0500
TZOFFSETTO:-0400
TZNAME:EDT
DTSTART:20160313T070000
END:DAYLIGHT
BEGIN:STANDARD
TZOFFSETFROM:-0400
TZOFFSETTO:-0500
TZNAME:EST
DTSTART:20161106T060000
END:STANDARD
BEGIN:DAYLIGHT
TZOFFSETFROM:-0500
TZOFFSETTO:-0400
TZNAME:EDT
DTSTART:20170312T070000
END:DAYLIGHT
BEGIN:STANDARD
TZOFFSETFROM:-0400
TZOFFSETTO:-0500
TZNAME:EST
DTSTART:20171105T060000
END:STANDARD
END:VTIMEZONE
BEGIN:VEVENT
DTSTART;TZID=America/New_York:20160905T080000
DTEND;TZID=America/New_York:20160905T170000
DTSTAMP:20260420T014150
CREATED:20160316T125208Z
LAST-MODIFIED:20160316T125208Z
UID:10002376-1473062400-1473094800@phenixcityal.gov
SUMMARY:CITY OFFICES CLOSED: Labor Day Holiday Observed
DESCRIPTION:City offices will be closed Monday\, September 5\, 2016\, to observe the Labor Day holiday. Offices will reopen Tuesday\, September 6\, 2016\, at 8 a.m.\, Eastern Time.
URL:https://phenixcityal.gov/events/city-offices-closed-labor-day-holiday-observed/
LOCATION:City of Phenix City\, 601 12th St.\, Phenix City\, AL\, 36867\, United States
CATEGORIES:Holiday
GEO:32.4690636;-85.000775
X-APPLE-STRUCTURED-LOCATION;VALUE=URI;X-ADDRESS=City of Phenix City 601 12th St. Phenix City AL 36867 United States;X-APPLE-RADIUS=500;X-TITLE=601 12th St.:geo:-85.000775,32.4690636
END:VEVENT
BEGIN:VEVENT
DTSTART;TZID=America/New_York:20160906T120000
DTEND;TZID=America/New_York:20160906T120000
DTSTAMP:20260420T014150
CREATED:20160316T132336Z
LAST-MODIFIED:20160930T122743Z
UID:10002387-1473163200-1473163200@phenixcityal.gov
SUMMARY:Historical Commission Meeting
DESCRIPTION:The Phenix City Historical Commission will hold a meeting at 12 Noon\, at the Russell County Historical Commission Headquarters Building:\nBuchanan House\n1040 Broad St.\nPhenix City\, Alabama 36867 \nSaid meeting shall be open to the public.
URL:https://phenixcityal.gov/events/historical-commission-meeting/2016-09-06/
LOCATION:Buchanan House\, 1040 Broad St.\, Phenix City\, AL\, 36867\, United States
CATEGORIES:Board Meeting
GEO:32.4670094;-85.0007703
X-APPLE-STRUCTURED-LOCATION;VALUE=URI;X-ADDRESS=Buchanan House 1040 Broad St. Phenix City AL 36867 United States;X-APPLE-RADIUS=500;X-TITLE=1040 Broad St.:geo:-85.0007703,32.4670094
END:VEVENT
BEGIN:VEVENT
DTSTART;TZID=America/New_York:20160906T150000
DTEND;TZID=America/New_York:20160906T150000
DTSTAMP:20260420T014150
CREATED:20160802T181152Z
LAST-MODIFIED:20221028T200319Z
UID:10002412-1473174000-1473174000@phenixcityal.gov
SUMMARY:City Council Work Session
DESCRIPTION:The City Council of the City of Phenix City will hold a regular Work Session Meeting in the Third Floor Conference Room of the Municipal Building at 3 p.m.\, Eastern Time:\n601 12th St.\nThird Floor\nPhenix City\, AL 36867
URL:https://phenixcityal.gov/events/city-council-work-session/
LOCATION:Municipal Building\, 601 12th St.\, Phenix City\, AL\, 36867\, United States
CATEGORIES:Council Meeting
GEO:32.468767;-85.001006
X-APPLE-STRUCTURED-LOCATION;VALUE=URI;X-ADDRESS=Municipal Building 601 12th St. Phenix City AL 36867 United States;X-APPLE-RADIUS=500;X-TITLE=601 12th St.:geo:-85.001006,32.468767
END:VEVENT
BEGIN:VEVENT
DTSTART;TZID=America/New_York:20160907T090000
DTEND;TZID=America/New_York:20160907T090000
DTSTAMP:20260420T014150
CREATED:20160315T201351Z
LAST-MODIFIED:20160802T185434Z
UID:10002337-1473238800-1473238800@phenixcityal.gov
SUMMARY:City Council Meeting
DESCRIPTION:The City Council of the City of Phenix City will hold a regular meeting in the Council Chambers\, located in the Public Safety Building at 9 a.m.\, Eastern Time:\n1111 Broad St.\nPhenix City\, AL 36867 \nSaid meeting is open to the public. For more information regarding council meetings\, please contact the City Clerk’s Office\, at 334-448-2720.
URL:https://phenixcityal.gov/events/city-council-meeting-7/
LOCATION:Council Chambers\, 1111 Broad St.\, Phenix City\, AL\, 36867\, United States
CATEGORIES:Council Meeting
GEO:32.467981;-85.000891
X-APPLE-STRUCTURED-LOCATION;VALUE=URI;X-ADDRESS=Council Chambers 1111 Broad St. Phenix City AL 36867 United States;X-APPLE-RADIUS=500;X-TITLE=1111 Broad St.:geo:-85.000891,32.467981
END:VEVENT
BEGIN:VEVENT
DTSTART;TZID=America/New_York:20160910T173000
DTEND;TZID=America/New_York:20160910T183000
DTSTAMP:20260420T014150
CREATED:20160315T205707Z
LAST-MODIFIED:20160316T121500Z
UID:10002360-1473528600-1473532200@phenixcityal.gov
SUMMARY:Library Board Meeting
DESCRIPTION:Members of the Phenix City-Russell County Library Board will conduct a regularly scheduled meeting at 5:30 p.m.\, Eastern Time\, at the Library:\n1501 17th Ave.\nPhenix City\, AL 36867 \nSaid meeting is open to the public.
URL:https://phenixcityal.gov/events/13409-2016-03-10/2016-09-10/
LOCATION:Phenix City-Russell County Library\, 1501 17th Ave.\, Phenix City\, AL\, 36867\, United States
CATEGORIES:Board Meeting
GEO:32.4751263;-85.0164134
X-APPLE-STRUCTURED-LOCATION;VALUE=URI;X-ADDRESS=Phenix City-Russell County Library 1501 17th Ave. Phenix City AL 36867 United States;X-APPLE-RADIUS=500;X-TITLE=1501 17th Ave.:geo:-85.0164134,32.4751263
END:VEVENT
END:VCALENDAR