BEGIN:VCALENDAR
VERSION:2.0
PRODID:-//Phenix City, Alabama - ECPv6.15.13.1//NONSGML v1.0//EN
CALSCALE:GREGORIAN
METHOD:PUBLISH
X-ORIGINAL-URL:https://phenixcityal.gov
X-WR-CALDESC:Events for Phenix City, Alabama
REFRESH-INTERVAL;VALUE=DURATION:PT1H
X-Robots-Tag:noindex
X-PUBLISHED-TTL:PT1H
BEGIN:VTIMEZONE
TZID:America/New_York
BEGIN:DAYLIGHT
TZOFFSETFROM:-0500
TZOFFSETTO:-0400
TZNAME:EDT
DTSTART:20150308T070000
END:DAYLIGHT
BEGIN:STANDARD
TZOFFSETFROM:-0400
TZOFFSETTO:-0500
TZNAME:EST
DTSTART:20151101T060000
END:STANDARD
BEGIN:DAYLIGHT
TZOFFSETFROM:-0500
TZOFFSETTO:-0400
TZNAME:EDT
DTSTART:20160313T070000
END:DAYLIGHT
BEGIN:STANDARD
TZOFFSETFROM:-0400
TZOFFSETTO:-0500
TZNAME:EST
DTSTART:20161106T060000
END:STANDARD
BEGIN:DAYLIGHT
TZOFFSETFROM:-0500
TZOFFSETTO:-0400
TZNAME:EDT
DTSTART:20170312T070000
END:DAYLIGHT
BEGIN:STANDARD
TZOFFSETFROM:-0400
TZOFFSETTO:-0500
TZNAME:EST
DTSTART:20171105T060000
END:STANDARD
END:VTIMEZONE
BEGIN:VEVENT
DTSTART;TZID=America/New_York:20160719T180000
DTEND;TZID=America/New_York:20160719T180000
DTSTAMP:20260421T001135
CREATED:20160315T201956Z
LAST-MODIFIED:20160802T185722Z
UID:10002349-1468951200-1468951200@phenixcityal.gov
SUMMARY:City Council Meeting
DESCRIPTION:The City Council of the City of Phenix City will hold a regular meeting in the Council Chambers\, located in the Public Safety Building at 6 p.m.\, Eastern Time:\n1111 Broad St.\nPhenix City\, AL 36867 \nSaid meeting is open to the public. For more information regarding council meetings\, please contact the City Clerk’s Office\, at 334-448-2720.
URL:https://phenixcityal.gov/events/city-council-meeting-13/
LOCATION:Council Chambers\, 1111 Broad St.\, Phenix City\, AL\, 36867\, United States
CATEGORIES:Council Meeting
GEO:32.467981;-85.000891
X-APPLE-STRUCTURED-LOCATION;VALUE=URI;X-ADDRESS=Council Chambers 1111 Broad St. Phenix City AL 36867 United States;X-APPLE-RADIUS=500;X-TITLE=1111 Broad St.:geo:-85.000891,32.467981
END:VEVENT
BEGIN:VEVENT
DTSTART;TZID=America/New_York:20160721T150000
DTEND;TZID=America/New_York:20160721T160000
DTSTAMP:20260421T001135
CREATED:20160316T121141Z
LAST-MODIFIED:20160316T121536Z
UID:10002363-1469113200-1469116800@phenixcityal.gov
SUMMARY:Downtown Redevelopment Authority Meeting
DESCRIPTION:The members of the Phenix City Downtown Redevelopment Authority will conduct a regularly scheduled quarterly meeting in the Third Floor Conference Room of the Municipal Building at 3 p.m.\, Eastern Time:\n1119 Broad St.\nPhenix City\, AL 36867 \nSaid meeting is open to the public.
URL:https://phenixcityal.gov/events/downtown-redevelopment-authority-meeting-2016-04-21/2016-07-21/
LOCATION:Municipal Building\, 601 12th St.\, Phenix City\, AL\, 36867\, United States
CATEGORIES:Board Meeting
GEO:32.468767;-85.001006
X-APPLE-STRUCTURED-LOCATION;VALUE=URI;X-ADDRESS=Municipal Building 601 12th St. Phenix City AL 36867 United States;X-APPLE-RADIUS=500;X-TITLE=601 12th St.:geo:-85.001006,32.468767
END:VEVENT
BEGIN:VEVENT
DTSTART;TZID=America/New_York:20160723T123000
DTEND;TZID=America/New_York:20160723T133000
DTSTAMP:20260421T001135
CREATED:20160316T122049Z
LAST-MODIFIED:20221028T202805Z
UID:10002368-1469277000-1469280600@phenixcityal.gov
SUMMARY:Museum Advisory Committee Meeting
DESCRIPTION:The Phenix City Museum Advisory Committee will hold its regularly scheduled monthly meeting at 12:30 p.m.\, Eastern Time\, in the Third Floor Conference Room of the Municipal Building:\n1119 Broad St.\nPhenix City\, AL 36867 \nAll meetings are open to the public. Interested parties are encouraged to attend.
URL:https://phenixcityal.gov/events/museum-advisory-committee-meeting-2016-03-23/2016-07-23/
LOCATION:Municipal Building\, 601 12th St.\, Phenix City\, AL\, 36867\, United States
CATEGORIES:Board Meeting
GEO:32.468767;-85.001006
X-APPLE-STRUCTURED-LOCATION;VALUE=URI;X-ADDRESS=Municipal Building 601 12th St. Phenix City AL 36867 United States;X-APPLE-RADIUS=500;X-TITLE=601 12th St.:geo:-85.001006,32.468767
END:VEVENT
END:VCALENDAR