BEGIN:VCALENDAR
VERSION:2.0
PRODID:-//Phenix City, Alabama - ECPv6.15.13.1//NONSGML v1.0//EN
CALSCALE:GREGORIAN
METHOD:PUBLISH
X-WR-CALNAME:Phenix City, Alabama
X-ORIGINAL-URL:https://phenixcityal.gov
X-WR-CALDESC:Events for Phenix City, Alabama
REFRESH-INTERVAL;VALUE=DURATION:PT1H
X-Robots-Tag:noindex
X-PUBLISHED-TTL:PT1H
BEGIN:VTIMEZONE
TZID:America/New_York
BEGIN:DAYLIGHT
TZOFFSETFROM:-0500
TZOFFSETTO:-0400
TZNAME:EDT
DTSTART:20150308T070000
END:DAYLIGHT
BEGIN:STANDARD
TZOFFSETFROM:-0400
TZOFFSETTO:-0500
TZNAME:EST
DTSTART:20151101T060000
END:STANDARD
BEGIN:DAYLIGHT
TZOFFSETFROM:-0500
TZOFFSETTO:-0400
TZNAME:EDT
DTSTART:20160313T070000
END:DAYLIGHT
BEGIN:STANDARD
TZOFFSETFROM:-0400
TZOFFSETTO:-0500
TZNAME:EST
DTSTART:20161106T060000
END:STANDARD
BEGIN:DAYLIGHT
TZOFFSETFROM:-0500
TZOFFSETTO:-0400
TZNAME:EDT
DTSTART:20170312T070000
END:DAYLIGHT
BEGIN:STANDARD
TZOFFSETFROM:-0400
TZOFFSETTO:-0500
TZNAME:EST
DTSTART:20171105T060000
END:STANDARD
END:VTIMEZONE
BEGIN:VEVENT
DTSTART;TZID=America/New_York:20160530T080000
DTEND;TZID=America/New_York:20160530T170000
DTSTAMP:20260421T014805
CREATED:20160316T124423Z
LAST-MODIFIED:20160316T124423Z
UID:10002374-1464595200-1464627600@phenixcityal.gov
SUMMARY:CITY OFFICES CLOSED: Memorial Day Holiday Observed
DESCRIPTION:City offices will be closed Monday\, May 30\, 2016\, to observe the Memorial Day holiday. Offices will reopen Tuesday\, May 31\, 2016 at 8 a.m.\, Eastern Time.
URL:https://phenixcityal.gov/events/city-offices-closed-memorial-day-holiday-observed/
LOCATION:City of Phenix City\, 601 12th St.\, Phenix City\, AL\, 36867\, United States
CATEGORIES:Holiday
GEO:32.4690636;-85.000775
X-APPLE-STRUCTURED-LOCATION;VALUE=URI;X-ADDRESS=City of Phenix City 601 12th St. Phenix City AL 36867 United States;X-APPLE-RADIUS=500;X-TITLE=601 12th St.:geo:-85.000775,32.4690636
END:VEVENT
BEGIN:VEVENT
DTSTART;TZID=America/New_York:20160604T200000
DTEND;TZID=America/New_York:20160604T220000
DTSTAMP:20260421T014805
CREATED:20160316T133533Z
LAST-MODIFIED:20160316T133533Z
UID:10002394-1465070400-1465077600@phenixcityal.gov
SUMMARY:CONCERT ALERT: 7 Bridges: The Ultimate EAGLES Experience @ the Amphitheater
DESCRIPTION:CONCERT ALERT! 7 Bridges: The Ultimate EAGLES Experience will perform at the Phenix City Amphitheater located on the banks of the beautiful Chattahoochee River. Who doesn’t love the Eagles music? This classic rock band’s music lives on through this very talented\, high-energy band. They will have you on your feet dancing and singing along to your favorite Eagles tunes. \nShow starts at 8 p.m.\, Eastern Time. No coolers or pets allowed. Guests are encouraged to bring a folding chair or blankets to sit on. \nThis all-ages show is only $10 for adults. Kids 12 and under get in free! This very special event is brought to you by Phenix City Parks and Recreation and Boomer 95.
URL:https://phenixcityal.gov/events/concert-alert-7-bridges-the-ultimate-eagles-experience-the-amphitheater/
LOCATION:Phenix City Amphitheater\, 508 Dillingham St.\, Phenix City\, AL\, 36867\, United States
CATEGORIES:Concert,Special Event
GEO:32.464159;-84.998613
X-APPLE-STRUCTURED-LOCATION;VALUE=URI;X-ADDRESS=Phenix City Amphitheater 508 Dillingham St. Phenix City AL 36867 United States;X-APPLE-RADIUS=500;X-TITLE=508 Dillingham St.:geo:-84.998613,32.464159
END:VEVENT
END:VCALENDAR