BEGIN:VCALENDAR
VERSION:2.0
PRODID:-//Phenix City, Alabama - ECPv6.15.13.1//NONSGML v1.0//EN
CALSCALE:GREGORIAN
METHOD:PUBLISH
X-WR-CALNAME:Phenix City, Alabama
X-ORIGINAL-URL:https://phenixcityal.gov
X-WR-CALDESC:Events for Phenix City, Alabama
REFRESH-INTERVAL;VALUE=DURATION:PT1H
X-Robots-Tag:noindex
X-PUBLISHED-TTL:PT1H
BEGIN:VTIMEZONE
TZID:America/New_York
BEGIN:DAYLIGHT
TZOFFSETFROM:-0500
TZOFFSETTO:-0400
TZNAME:EDT
DTSTART:20150308T070000
END:DAYLIGHT
BEGIN:STANDARD
TZOFFSETFROM:-0400
TZOFFSETTO:-0500
TZNAME:EST
DTSTART:20151101T060000
END:STANDARD
BEGIN:DAYLIGHT
TZOFFSETFROM:-0500
TZOFFSETTO:-0400
TZNAME:EDT
DTSTART:20160313T070000
END:DAYLIGHT
BEGIN:STANDARD
TZOFFSETFROM:-0400
TZOFFSETTO:-0500
TZNAME:EST
DTSTART:20161106T060000
END:STANDARD
BEGIN:DAYLIGHT
TZOFFSETFROM:-0500
TZOFFSETTO:-0400
TZNAME:EDT
DTSTART:20170312T070000
END:DAYLIGHT
BEGIN:STANDARD
TZOFFSETFROM:-0400
TZOFFSETTO:-0500
TZNAME:EST
DTSTART:20171105T060000
END:STANDARD
END:VTIMEZONE
BEGIN:VEVENT
DTSTART;TZID=America/New_York:20161201T150000
DTEND;TZID=America/New_York:20161201T150000
DTSTAMP:20260419T161657
CREATED:20160802T180646Z
LAST-MODIFIED:20221028T200417Z
UID:10002410-1480604400-1480604400@phenixcityal.gov
SUMMARY:City Council Work Session
DESCRIPTION:The City Council of the City of Phenix City will hold a regular Work Session Meeting in the Third Floor Conference Room of the Municipal Building at 3 p.m.\, Eastern Time:\n601 12th St.\nThird Floor\nPhenix City\, AL 36867 \nAgendas & Minutes\nView the agenda and/or minutes associated with this meeting.
URL:https://phenixcityal.gov/events/14074/2016-12-01/
LOCATION:Municipal Building\, 601 12th St.\, Phenix City\, AL\, 36867\, United States
CATEGORIES:Council Meeting
GEO:32.468767;-85.001006
X-APPLE-STRUCTURED-LOCATION;VALUE=URI;X-ADDRESS=Municipal Building 601 12th St. Phenix City AL 36867 United States;X-APPLE-RADIUS=500;X-TITLE=601 12th St.:geo:-85.001006,32.468767
END:VEVENT
BEGIN:VEVENT
DTSTART;TZID=America/New_York:20161201T193000
DTEND;TZID=America/New_York:20161201T210000
DTSTAMP:20260419T161657
CREATED:20160930T130102Z
LAST-MODIFIED:20160930T130102Z
UID:10002419-1480620600-1480626000@phenixcityal.gov
SUMMARY:Night of Lights @ the Amphitheater
DESCRIPTION:NIGHT OF LIGHTS at the Phenix City Amphitheater located at 508 Dillingham Street in Phenix City. Come join us for the kickoff of the official holiday season with a show featuring holiday music and concluding with a beautiful fireworks show over the Chattahoochee River! \nFree hot chocolate will be provided for our guests to enjoy as they watch the show. Show begins at 7:30 and ends at 9 p.m\, Eastern Time. This special holiday event is brought to you by Phenix City Parks and Recreation and the Russell County- Phenix City Tourism Department.
URL:https://phenixcityal.gov/events/night-of-lights-the-amphitheater/
LOCATION:Phenix City Amphitheater\, 508 Dillingham St.\, Phenix City\, AL\, 36867\, United States
CATEGORIES:Special Event
GEO:32.464159;-84.998613
X-APPLE-STRUCTURED-LOCATION;VALUE=URI;X-ADDRESS=Phenix City Amphitheater 508 Dillingham St. Phenix City AL 36867 United States;X-APPLE-RADIUS=500;X-TITLE=508 Dillingham St.:geo:-84.998613,32.464159
END:VEVENT
BEGIN:VEVENT
DTSTART;TZID=America/New_York:20161203T100000
DTEND;TZID=America/New_York:20161203T100000
DTSTAMP:20260419T161657
CREATED:20160930T130309Z
LAST-MODIFIED:20161020T195926Z
UID:10002420-1480759200-1480759200@phenixcityal.gov
SUMMARY:Bi-City Christmas Parade
DESCRIPTION:The Annual Bi-City Christmas Parade begins at 10 a.m.\, Eastern Time\, on Colin Powell Parkway in Phenix City. The route goes down Broad Street in Phenix City\, turns onto the 13th Street bridge\, and goes down Broadway in Columbus and ends on 9th Street. The audience will see professional and handcrafted floats\, marching units\, antique cars\, motorcycles\, horses\, clowns\, churches\, schools\, civic organizations\, and much more! This annual parade is brought to you by Columbus Parks and Recreation and Phenix City Parks and Recreation. Please call 334-291-4719 if you have questions or if you would like to participate. \nApplications\nInterested in being a part of the parade? Download an application and submit it to the Parks and Recreation Office by 5 p.m.\, Eastern Time\, on November 23\, 2016!\n1500 Airport Road\nPhenix City\, AL 36867
URL:https://phenixcityal.gov/events/bi-city-christmas-parade/
LOCATION:Parade Route\, Broad Street & 13th Street\, Phenix City\, AL\, 36867\, United States
CATEGORIES:Special Event
GEO:32.4709054;-85.0007155
X-APPLE-STRUCTURED-LOCATION;VALUE=URI;X-ADDRESS=Parade Route Broad Street & 13th Street Phenix City AL 36867 United States;X-APPLE-RADIUS=500;X-TITLE=Broad Street & 13th Street:geo:-85.0007155,32.4709054
END:VEVENT
BEGIN:VEVENT
DTSTART;TZID=America/New_York:20161206T090000
DTEND;TZID=America/New_York:20161206T090000
DTSTAMP:20260419T161657
CREATED:20160315T201705Z
LAST-MODIFIED:20160802T184323Z
UID:10002343-1481014800-1481014800@phenixcityal.gov
SUMMARY:City Council Meeting
DESCRIPTION:The City Council of the City of Phenix City will hold a regular meeting in the Council Chambers\, located in the Public Safety Building at 9 a.m.\, Eastern Time:\n1111 Broad St.\nPhenix City\, AL 36867 \nSaid meeting is open to the public. For more information regarding council meetings\, please contact the City Clerk’s Office\, at 334-448-2720.
URL:https://phenixcityal.gov/events/city-council-meeting-10/
LOCATION:Council Chambers\, 1111 Broad St.\, Phenix City\, AL\, 36867\, United States
CATEGORIES:Council Meeting
GEO:32.467981;-85.000891
X-APPLE-STRUCTURED-LOCATION;VALUE=URI;X-ADDRESS=Council Chambers 1111 Broad St. Phenix City AL 36867 United States;X-APPLE-RADIUS=500;X-TITLE=1111 Broad St.:geo:-85.000891,32.467981
END:VEVENT
BEGIN:VEVENT
DTSTART;TZID=America/New_York:20161206T120000
DTEND;TZID=America/New_York:20161206T120000
DTSTAMP:20260419T161657
CREATED:20160316T132336Z
LAST-MODIFIED:20160930T122743Z
UID:10002390-1481025600-1481025600@phenixcityal.gov
SUMMARY:Historical Commission Meeting
DESCRIPTION:The Phenix City Historical Commission will hold a meeting at 12 Noon\, at the Russell County Historical Commission Headquarters Building:\nBuchanan House\n1040 Broad St.\nPhenix City\, Alabama 36867 \nSaid meeting shall be open to the public.
URL:https://phenixcityal.gov/events/historical-commission-meeting/2016-12-06/
LOCATION:Buchanan House\, 1040 Broad St.\, Phenix City\, AL\, 36867\, United States
CATEGORIES:Board Meeting
GEO:32.4670094;-85.0007703
X-APPLE-STRUCTURED-LOCATION;VALUE=URI;X-ADDRESS=Buchanan House 1040 Broad St. Phenix City AL 36867 United States;X-APPLE-RADIUS=500;X-TITLE=1040 Broad St.:geo:-85.0007703,32.4670094
END:VEVENT
BEGIN:VEVENT
DTSTART;TZID=America/New_York:20161210T080000
DTEND;TZID=America/New_York:20161210T080000
DTSTAMP:20260419T161657
CREATED:20161025T144617Z
LAST-MODIFIED:20170216T202407Z
UID:10002426-1481356800-1481356800@phenixcityal.gov
SUMMARY:Breakfast with Santa
DESCRIPTION:Join us for our annual Breakfast with Santa at the Central Activity Center! Watch the entertaining Puppet Show and fill up on a delicious assortment of breakfast items before your personal meet-and-greet with Santa Claus himself. There will be a professional photographer onsite the morning of the event who will be available to take your annual holiday photo for an additional fee. Personal cameras are allowed\, but time with Santa will be limited\, so please plan accordingly and take photos in a timely and courteous manner to allow all guests to be accommodated. \nDoors promptly open at 8 a.m.\, Eastern Time\, event begins at 9 \nTickets & Reservations\nTickets are $2 at the door\, but reservations are required due to space limitations. Call the Central Activity Center\, on or after November 14\, 2016\, to reserve your seat! \nPh: 334-291-4743
URL:https://phenixcityal.gov/events/breakfast-with-santa/
LOCATION:Central Activity Center\, 1500 14th St.\, Phenix City\, AL\, 36867\, United States
CATEGORIES:Special Event
GEO:32.473098;-85.014788
X-APPLE-STRUCTURED-LOCATION;VALUE=URI;X-ADDRESS=Central Activity Center 1500 14th St. Phenix City AL 36867 United States;X-APPLE-RADIUS=500;X-TITLE=1500 14th St.:geo:-85.014788,32.473098
END:VEVENT
BEGIN:VEVENT
DTSTART;TZID=America/New_York:20161210T150000
DTEND;TZID=America/New_York:20161210T210000
DTSTAMP:20260419T161657
CREATED:20160930T130733Z
LAST-MODIFIED:20160930T130733Z
UID:10002421-1481382000-1481403600@phenixcityal.gov
SUMMARY:Christmas Carnival @ Moon Lake
DESCRIPTION:Christmas Carnival at Moon Lake and Martin-Idle Hour Park located off Summerville Road in Phenix City. The park will be full of fun for the whole family! Come enjoy a live nativity\, pony rides\, train rides\, hay rides\, activities for the kids to play on\, make\, and do. Food vendors\, craft vendors\, local business networking\, and so much more! Live entertainment featuring school groups and local talent will perform Christmas music throughout the day. The event starts at 3 p.m.\, Eastern Time\, and ends at 9 p.m. \nAdmission is free\, however a small fee will be charged for the larger carnival rides and some food vendors. This event is brought to you by Phenix City Parks and Recreation. If you would like more information or would like to participate or volunteer\, please call Rebecca Harris at 334-291-4719.
URL:https://phenixcityal.gov/events/christmas-carnival-moon-lake/
LOCATION:Moon Lake\, 900 Airport Road\, Phenix City\, AL\, 36867\, United States
CATEGORIES:Special Event
GEO:32.500008;-85.004525
X-APPLE-STRUCTURED-LOCATION;VALUE=URI;X-ADDRESS=Moon Lake 900 Airport Road Phenix City AL 36867 United States;X-APPLE-RADIUS=500;X-TITLE=900 Airport Road:geo:-85.004525,32.500008
END:VEVENT
BEGIN:VEVENT
DTSTART;TZID=America/New_York:20161211T171500
DTEND;TZID=America/New_York:20161211T171500
DTSTAMP:20260419T161657
CREATED:20161011T202517Z
LAST-MODIFIED:20221028T201707Z
UID:10002325-1481476500-1481476500@phenixcityal.gov
SUMMARY:Planning Commission Meeting
DESCRIPTION:Notice is hereby given that the Planning Commission of the City of Phenix City\, Alabama\, will hold a regular meeting at 5:15 p.m.\, Eastern Time\, in the Council Chambers\, located in the Public Safety Building:\n1111 Broad Street\nPhenix City\, AL 36867
URL:https://phenixcityal.gov/events/planning-commission-meeting/2016-12-11/
LOCATION:Council Chambers\, 1111 Broad St.\, Phenix City\, AL\, 36867\, United States
CATEGORIES:Board Meeting
GEO:32.467981;-85.000891
X-APPLE-STRUCTURED-LOCATION;VALUE=URI;X-ADDRESS=Council Chambers 1111 Broad St. Phenix City AL 36867 United States;X-APPLE-RADIUS=500;X-TITLE=1111 Broad St.:geo:-85.000891,32.467981
END:VEVENT
BEGIN:VEVENT
DTSTART;TZID=America/New_York:20161214T100000
DTEND;TZID=America/New_York:20161214T100000
DTSTAMP:20260419T161657
CREATED:20161020T194805Z
LAST-MODIFIED:20161118T181825Z
UID:10002424-1481709600-1481709600@phenixcityal.gov
SUMMARY:BID: Riverchase Drive at US Hwy 80 Turn lane Improvements @ 10 a.m. (Rescheduled from 11/16/2016)
DESCRIPTION:Sealed bids for the construction of Riverchase Drive at US Highway 80 Turn Lane Improvements shall be received by the Purchasing Agent at the City of Phenix City Finance Department\, 601 12th Street\, Second Floor\, Phenix City\, Alabama 36867\, until 9:45 a.m.\, Eastern Time\, on Wednesday\, December 14\, 2016\, and then publicly opened and read aloud in the Phenix City Council Chambers. No bids shall be accepted after this time. \nThe project will consist of earthwork\, drainage\, pavement widening\, curb and gutter\, guardrail\, overlay and striping. Plans and specifications can be viewed at the City Engineer’s Office\, located at 1206 7th Avenue\, Second Floor\, Phenix City\, Alabama 36867. The bid package may be obtained by emailing your request to Matt Stoops\, P.E. \nAll bidders must be licensed by the State of Alabama Licensing Board of General Contractors\, as required by Chapter 8 of Title 34 of the Code of Alabama 1975\, as amended. \nAll bids must be submitted on bid forms furnished and must be in a sealed envelope clearly marked “Riverchase Drive Turn Lane Improvements.” A bid bond is required. The City of Phenix City reserves the right to reject any or all bids or to waive any informality in the bidding process. No bid may be withdrawn after the time opening has passed. The City of Phenix City reserves the right to hold the bids for a period of 60 days after of receiving bids until notice of award. \nA Pre-Bid Conference is not required for this project. \nView the official Advertisement for Bid. \nView the Bid Specifications and Bid Form. \n  \n 
URL:https://phenixcityal.gov/events/bid-riverchase-drive-us-hwy-80-turn-lane-improvements/
LOCATION:Council Chambers\, 1111 Broad St.\, Phenix City\, AL\, 36867\, United States
CATEGORIES:Bid Opportunities
GEO:32.467981;-85.000891
X-APPLE-STRUCTURED-LOCATION;VALUE=URI;X-ADDRESS=Council Chambers 1111 Broad St. Phenix City AL 36867 United States;X-APPLE-RADIUS=500;X-TITLE=1111 Broad St.:geo:-85.000891,32.467981
END:VEVENT
BEGIN:VEVENT
DTSTART;TZID=America/New_York:20161214T123000
DTEND;TZID=America/New_York:20161214T133000
DTSTAMP:20260419T161657
CREATED:20160316T122927Z
LAST-MODIFIED:20160316T122927Z
UID:10002373-1481718600-1481722200@phenixcityal.gov
SUMMARY:Museum Advisory Committee Meeting
DESCRIPTION:The Phenix City Museum Advisory Committee will hold its regularly scheduled monthly meeting at 12:30 p.m.\, Eastern Time\, in the Third Floor Conference Room of the Municipal Building:\n1119 Broad St.\nPhenix City\, AL 36867 \nAll meetings are open to the public. Interested parties are encouraged to attend.
URL:https://phenixcityal.gov/events/museum-advisory-committee-meeting-3/
LOCATION:Municipal Building\, 601 12th St.\, Phenix City\, AL\, 36867\, United States
CATEGORIES:Board Meeting
GEO:32.468767;-85.001006
X-APPLE-STRUCTURED-LOCATION;VALUE=URI;X-ADDRESS=Municipal Building 601 12th St. Phenix City AL 36867 United States;X-APPLE-RADIUS=500;X-TITLE=601 12th St.:geo:-85.001006,32.468767
END:VEVENT
BEGIN:VEVENT
DTSTART;TZID=America/New_York:20161214T140000
DTEND;TZID=America/New_York:20161214T140000
DTSTAMP:20260419T161657
CREATED:20161129T155157Z
LAST-MODIFIED:20161205T165844Z
UID:10002432-1481724000-1481724000@phenixcityal.gov
SUMMARY:BID: E17-01\, Hot Mix Asphalt Paving & Roadway Improvements @ 2 p.m.
DESCRIPTION:Notice is hereby given that the City of Phenix City\, Alabama will receive sealed bids for “Bid Number E17-01\, Hot Mix Asphalt Paving and Roadway Improvements” until 1:45 p.m.\, EST \, on December 14\, 2016\, and the official bid opening will be at 2 p.m.\, EST\, in the City Council Chambers at City Hall\, 1111 Broad Street\, Phenix City\, Alabama. \nSpecifications\nAll bids must be submitted by 1:45 p.m.\, EST\, on December 14\, 2016\, on the bid form below with compliance with each specification indicated and sealed in an envelope with the words “Bid Number E17-01\, Hot Mix Asphalt Paving and Roadway Improvements” clearly marked on the outside of the envelope. Bids should be mailed or hand-delivered to:\nCity of Phenix City Finance Department\nAttn: Purchasing Agent\n601 12th Street\nSecond Floor\nPhenix City\, AL 36867 \nBids received after 1:45 p.m.\, EST\, on December 14\, 2016\, will not be considered. \nView the Bid Specifications and Bid Form.\n**Addendum added December 5\, 2016 \nAny questions concerning the specifications should be directed to Angel Moore\, City Engineer\, at 334-448-2760.
URL:https://phenixcityal.gov/events/bid-e17-01-hot-mix-asphalt-paving-roadway-improvements-2-p-m/
LOCATION:Council Chambers\, 1111 Broad St.\, Phenix City\, AL\, 36867\, United States
CATEGORIES:Bid Opportunities
GEO:32.467981;-85.000891
X-APPLE-STRUCTURED-LOCATION;VALUE=URI;X-ADDRESS=Council Chambers 1111 Broad St. Phenix City AL 36867 United States;X-APPLE-RADIUS=500;X-TITLE=1111 Broad St.:geo:-85.000891,32.467981
END:VEVENT
BEGIN:VEVENT
DTSTART;TZID=America/New_York:20161215T080000
DTEND;TZID=America/New_York:20161215T080000
DTSTAMP:20260419T161657
CREATED:20161005T122743Z
LAST-MODIFIED:20161005T122743Z
UID:10002320-1481788800-1481788800@phenixcityal.gov
SUMMARY:Dixie Seniors Golf
DESCRIPTION:Dixie Seniors at Lakewood Golf Course\, morning start
URL:https://phenixcityal.gov/events/dixie-seniors-golf/2016-12-15/
LOCATION:Lakewood Golf Course\, 2800 Lakewood Drive\, Phenix City\, AL\, 36867\, United States
CATEGORIES:Golf Course
GEO:32.5036453;-85.0325704
X-APPLE-STRUCTURED-LOCATION;VALUE=URI;X-ADDRESS=Lakewood Golf Course 2800 Lakewood Drive Phenix City AL 36867 United States;X-APPLE-RADIUS=500;X-TITLE=2800 Lakewood Drive:geo:-85.0325704,32.5036453
END:VEVENT
BEGIN:VEVENT
DTSTART;TZID=America/New_York:20161220T090000
DTEND;TZID=America/New_York:20161220T090000
DTSTAMP:20260419T161657
CREATED:20160315T202433Z
LAST-MODIFIED:20161206T145958Z
UID:10002354-1482224400-1482224400@phenixcityal.gov
SUMMARY:City Council Meeting
DESCRIPTION:The City Council of the City of Phenix City will hold a regular meeting in the Council Chambers\, located in the Public Safety Building at 9 a.m.\, Eastern Time:\n1111 Broad St.\nPhenix City\, AL 36867 \nSaid meeting is open to the public. For more information regarding council meetings\, please contact the City Clerk’s Office\, at 334-448-2720. \nAgendas & Minutes\nView the agenda and/or minutes associated with this meeting.
URL:https://phenixcityal.gov/events/city-council-meeting-17/
LOCATION:Council Chambers\, 1111 Broad St.\, Phenix City\, AL\, 36867\, United States
CATEGORIES:Council Meeting
GEO:32.467981;-85.000891
X-APPLE-STRUCTURED-LOCATION;VALUE=URI;X-ADDRESS=Council Chambers 1111 Broad St. Phenix City AL 36867 United States;X-APPLE-RADIUS=500;X-TITLE=1111 Broad St.:geo:-85.000891,32.467981
END:VEVENT
BEGIN:VEVENT
DTSTART;TZID=America/New_York:20161220T090000
DTEND;TZID=America/New_York:20161220T090000
DTSTAMP:20260419T161657
CREATED:20161216T160255Z
LAST-MODIFIED:20161216T160255Z
UID:10002521-1482224400-1482224400@phenixcityal.gov
SUMMARY:Economic Development Announcement
DESCRIPTION:Please join Phenix City councilmembers and city officials as they will be announcing a new Economic Development project coming to Phenix City following the 9 a.m.\, EST\, council meeting on Tuesday\, December 20\, 2016. \nView the official Media Release.
URL:https://phenixcityal.gov/events/economic-development-announcement/
LOCATION:Council Chambers\, 1111 Broad St.\, Phenix City\, AL\, 36867\, United States
CATEGORIES:Council Meeting
GEO:32.467981;-85.000891
X-APPLE-STRUCTURED-LOCATION;VALUE=URI;X-ADDRESS=Council Chambers 1111 Broad St. Phenix City AL 36867 United States;X-APPLE-RADIUS=500;X-TITLE=1111 Broad St.:geo:-85.000891,32.467981
END:VEVENT
BEGIN:VEVENT
DTSTART;TZID=America/New_York:20161223T080000
DTEND;TZID=America/New_York:20161223T170000
DTSTAMP:20260419T161657
CREATED:20161011T202100Z
LAST-MODIFIED:20161011T202100Z
UID:10002322-1482480000-1482512400@phenixcityal.gov
SUMMARY:CITY OFFICES CLOSED: Christmas Holiday Observed
DESCRIPTION:City offices will be closed Friday\, December 23\, 2016\, and Monday\, December 26\, 2016\, to observe the Christmas holiday. Offices will reopen Tuesday\, December 27\, 2016\, at 8 a.m.\, Eastern Time.
URL:https://phenixcityal.gov/events/city-offices-closed-christmas-holiday-observed-2/
LOCATION:City of Phenix City\, 601 12th St.\, Phenix City\, AL\, 36867\, United States
CATEGORIES:Holiday
GEO:32.4690636;-85.000775
X-APPLE-STRUCTURED-LOCATION;VALUE=URI;X-ADDRESS=City of Phenix City 601 12th St. Phenix City AL 36867 United States;X-APPLE-RADIUS=500;X-TITLE=601 12th St.:geo:-85.000775,32.4690636
END:VEVENT
BEGIN:VEVENT
DTSTART;TZID=America/New_York:20161226T080000
DTEND;TZID=America/New_York:20161226T170000
DTSTAMP:20260419T161657
CREATED:20160316T130144Z
LAST-MODIFIED:20160316T130144Z
UID:10002381-1482739200-1482771600@phenixcityal.gov
SUMMARY:CITY OFFICES CLOSED: Christmas Holiday Observed
DESCRIPTION:City offices will be closed Monday\, December 26\, 2016\, to observe the Christmas holiday. Offices will reopen Tuesday\, December 27\, 2016\, at 8 a.m.\, Eastern Time.
URL:https://phenixcityal.gov/events/city-offices-closed-christmas-holiday-observed/
LOCATION:City of Phenix City\, 601 12th St.\, Phenix City\, AL\, 36867\, United States
CATEGORIES:Holiday
GEO:32.4690636;-85.000775
X-APPLE-STRUCTURED-LOCATION;VALUE=URI;X-ADDRESS=City of Phenix City 601 12th St. Phenix City AL 36867 United States;X-APPLE-RADIUS=500;X-TITLE=601 12th St.:geo:-85.000775,32.4690636
END:VEVENT
END:VCALENDAR