BEGIN:VCALENDAR
VERSION:2.0
PRODID:-//Phenix City, Alabama - ECPv6.15.13.1//NONSGML v1.0//EN
CALSCALE:GREGORIAN
METHOD:PUBLISH
X-WR-CALNAME:Phenix City, Alabama
X-ORIGINAL-URL:https://phenixcityal.gov
X-WR-CALDESC:Events for Phenix City, Alabama
REFRESH-INTERVAL;VALUE=DURATION:PT1H
X-Robots-Tag:noindex
X-PUBLISHED-TTL:PT1H
BEGIN:VTIMEZONE
TZID:America/New_York
BEGIN:DAYLIGHT
TZOFFSETFROM:-0500
TZOFFSETTO:-0400
TZNAME:EDT
DTSTART:20150308T070000
END:DAYLIGHT
BEGIN:STANDARD
TZOFFSETFROM:-0400
TZOFFSETTO:-0500
TZNAME:EST
DTSTART:20151101T060000
END:STANDARD
BEGIN:DAYLIGHT
TZOFFSETFROM:-0500
TZOFFSETTO:-0400
TZNAME:EDT
DTSTART:20160313T070000
END:DAYLIGHT
BEGIN:STANDARD
TZOFFSETFROM:-0400
TZOFFSETTO:-0500
TZNAME:EST
DTSTART:20161106T060000
END:STANDARD
BEGIN:DAYLIGHT
TZOFFSETFROM:-0500
TZOFFSETTO:-0400
TZNAME:EDT
DTSTART:20170312T070000
END:DAYLIGHT
BEGIN:STANDARD
TZOFFSETFROM:-0400
TZOFFSETTO:-0500
TZNAME:EST
DTSTART:20171105T060000
END:STANDARD
END:VTIMEZONE
BEGIN:VEVENT
DTSTART;TZID=America/New_York:20161031T150000
DTEND;TZID=America/New_York:20161031T150000
DTSTAMP:20260420T220224
CREATED:20160802T181231Z
LAST-MODIFIED:20221028T200253Z
UID:10002413-1477926000-1477926000@phenixcityal.gov
SUMMARY:City Council Work Session
DESCRIPTION:The City Council of the City of Phenix City will hold a regular Work Session Meeting in the Third Floor Conference Room of the Municipal Building at 3 p.m.\, Eastern Time:\n601 12th St.\nThird Floor\nPhenix City\, AL 36867
URL:https://phenixcityal.gov/events/city-council-work-session-2/
LOCATION:Municipal Building\, 601 12th St.\, Phenix City\, AL\, 36867\, United States
CATEGORIES:Council Meeting
GEO:32.468767;-85.001006
X-APPLE-STRUCTURED-LOCATION;VALUE=URI;X-ADDRESS=Municipal Building 601 12th St. Phenix City AL 36867 United States;X-APPLE-RADIUS=500;X-TITLE=601 12th St.:geo:-85.001006,32.468767
END:VEVENT
BEGIN:VEVENT
DTSTART;TZID=America/New_York:20161101T090000
DTEND;TZID=America/New_York:20161101T090000
DTSTAMP:20260420T220224
CREATED:20160315T201616Z
LAST-MODIFIED:20160802T184807Z
UID:10002341-1477990800-1477990800@phenixcityal.gov
SUMMARY:City Council Meeting
DESCRIPTION:The City Council of the City of Phenix City will hold a regular meeting in the Council Chambers\, located in the Public Safety Building at 9 a.m.\, Eastern Time:\n1111 Broad St.\nPhenix City\, AL 36867 \nSaid meeting is open to the public. For more information regarding council meetings\, please contact the City Clerk’s Office\, at 334-448-2720.
URL:https://phenixcityal.gov/events/city-council-meeting-9/
LOCATION:Council Chambers\, 1111 Broad St.\, Phenix City\, AL\, 36867\, United States
CATEGORIES:Council Meeting
GEO:32.467981;-85.000891
X-APPLE-STRUCTURED-LOCATION;VALUE=URI;X-ADDRESS=Council Chambers 1111 Broad St. Phenix City AL 36867 United States;X-APPLE-RADIUS=500;X-TITLE=1111 Broad St.:geo:-85.000891,32.467981
END:VEVENT
BEGIN:VEVENT
DTSTART;TZID=America/New_York:20161101T150000
DTEND;TZID=America/New_York:20161101T150000
DTSTAMP:20260420T220224
CREATED:20160802T180646Z
LAST-MODIFIED:20221028T200417Z
UID:10002409-1478012400-1478012400@phenixcityal.gov
SUMMARY:City Council Work Session
DESCRIPTION:The City Council of the City of Phenix City will hold a regular Work Session Meeting in the Third Floor Conference Room of the Municipal Building at 3 p.m.\, Eastern Time:\n601 12th St.\nThird Floor\nPhenix City\, AL 36867 \nAgendas & Minutes\nView the agenda and/or minutes associated with this meeting.
URL:https://phenixcityal.gov/events/14074/2016-11-01/
LOCATION:Municipal Building\, 601 12th St.\, Phenix City\, AL\, 36867\, United States
CATEGORIES:Council Meeting
GEO:32.468767;-85.001006
X-APPLE-STRUCTURED-LOCATION;VALUE=URI;X-ADDRESS=Municipal Building 601 12th St. Phenix City AL 36867 United States;X-APPLE-RADIUS=500;X-TITLE=601 12th St.:geo:-85.001006,32.468767
END:VEVENT
BEGIN:VEVENT
DTSTART;TZID=America/New_York:20161106T120000
DTEND;TZID=America/New_York:20161106T120000
DTSTAMP:20260420T220224
CREATED:20160316T132336Z
LAST-MODIFIED:20160930T122743Z
UID:10002389-1478433600-1478433600@phenixcityal.gov
SUMMARY:Historical Commission Meeting
DESCRIPTION:The Phenix City Historical Commission will hold a meeting at 12 Noon\, at the Russell County Historical Commission Headquarters Building:\nBuchanan House\n1040 Broad St.\nPhenix City\, Alabama 36867 \nSaid meeting shall be open to the public.
URL:https://phenixcityal.gov/events/historical-commission-meeting/2016-11-06/
LOCATION:Buchanan House\, 1040 Broad St.\, Phenix City\, AL\, 36867\, United States
CATEGORIES:Board Meeting
GEO:32.4670094;-85.0007703
X-APPLE-STRUCTURED-LOCATION;VALUE=URI;X-ADDRESS=Buchanan House 1040 Broad St. Phenix City AL 36867 United States;X-APPLE-RADIUS=500;X-TITLE=1040 Broad St.:geo:-85.0007703,32.4670094
END:VEVENT
BEGIN:VEVENT
DTSTART;TZID=America/New_York:20161107T090000
DTEND;TZID=America/New_York:20161107T090000
DTSTAMP:20260420T220224
CREATED:20161020T123013Z
LAST-MODIFIED:20161104T154252Z
UID:10002422-1478509200-1478509200@phenixcityal.gov
SUMMARY:City Council Oath of Office Ceremony
DESCRIPTION:Notice is hereby given that the newly elected members of the Phenix City City Council will be sworn into office at 9 a.m.\, Eastern Time\, Monday\, November 7\, 2016. The ceremony will take place in the Municipal Court Room located in the Public Safety Building\, 1111 Broad Street\, Phenix City\, Alabama 36867. \nView the official Public Notice and review the Induction Ceremony Program.
URL:https://phenixcityal.gov/events/city-council-oath-office-ceremony/
LOCATION:Municipal Courtroom\, 1111 Broad Street\, Phenix City\, AL\, 36867\, United States
CATEGORIES:Council Meeting
GEO:32.467469;-85.0007752
X-APPLE-STRUCTURED-LOCATION;VALUE=URI;X-ADDRESS=Municipal Courtroom 1111 Broad Street Phenix City AL 36867 United States;X-APPLE-RADIUS=500;X-TITLE=1111 Broad Street:geo:-85.0007752,32.467469
END:VEVENT
BEGIN:VEVENT
DTSTART;TZID=America/New_York:20161107T140000
DTEND;TZID=America/New_York:20161107T140000
DTSTAMP:20260420T220224
CREATED:20161020T123226Z
LAST-MODIFIED:20161104T142106Z
UID:10002423-1478527200-1478527200@phenixcityal.gov
SUMMARY:Newly Elected Council Organizational Meeting
DESCRIPTION:Notice is hereby given that the organizational meeting of the Phenix City City Council will be held at 2 p.m.\, Eastern Time\, Monday\, November 7\, 2016\, in the Third Floor Conference Room of the Municipal Building at 601 12th Street\, Phenix City\, Alabama 36867. \nView the official Public Notice and Meeting Agenda.
URL:https://phenixcityal.gov/events/newly-elected-council-organizational-meeting/
LOCATION:Municipal Building\, 601 12th St.\, Phenix City\, AL\, 36867\, United States
CATEGORIES:Council Meeting
GEO:32.468767;-85.001006
X-APPLE-STRUCTURED-LOCATION;VALUE=URI;X-ADDRESS=Municipal Building 601 12th St. Phenix City AL 36867 United States;X-APPLE-RADIUS=500;X-TITLE=601 12th St.:geo:-85.001006,32.468767
END:VEVENT
END:VCALENDAR