BEGIN:VCALENDAR
VERSION:2.0
PRODID:-//Phenix City, Alabama - ECPv6.15.13.1//NONSGML v1.0//EN
CALSCALE:GREGORIAN
METHOD:PUBLISH
X-WR-CALNAME:Phenix City, Alabama
X-ORIGINAL-URL:https://phenixcityal.gov
X-WR-CALDESC:Events for Phenix City, Alabama
REFRESH-INTERVAL;VALUE=DURATION:PT1H
X-Robots-Tag:noindex
X-PUBLISHED-TTL:PT1H
BEGIN:VTIMEZONE
TZID:America/New_York
BEGIN:DAYLIGHT
TZOFFSETFROM:-0500
TZOFFSETTO:-0400
TZNAME:EDT
DTSTART:20150308T070000
END:DAYLIGHT
BEGIN:STANDARD
TZOFFSETFROM:-0400
TZOFFSETTO:-0500
TZNAME:EST
DTSTART:20151101T060000
END:STANDARD
BEGIN:DAYLIGHT
TZOFFSETFROM:-0500
TZOFFSETTO:-0400
TZNAME:EDT
DTSTART:20160313T070000
END:DAYLIGHT
BEGIN:STANDARD
TZOFFSETFROM:-0400
TZOFFSETTO:-0500
TZNAME:EST
DTSTART:20161106T060000
END:STANDARD
BEGIN:DAYLIGHT
TZOFFSETFROM:-0500
TZOFFSETTO:-0400
TZNAME:EDT
DTSTART:20170312T070000
END:DAYLIGHT
BEGIN:STANDARD
TZOFFSETFROM:-0400
TZOFFSETTO:-0500
TZNAME:EST
DTSTART:20171105T060000
END:STANDARD
END:VTIMEZONE
BEGIN:VEVENT
DTSTART;TZID=America/New_York:20160906T150000
DTEND;TZID=America/New_York:20160906T150000
DTSTAMP:20260420T001736
CREATED:20160802T181152Z
LAST-MODIFIED:20221028T200319Z
UID:10002412-1473174000-1473174000@phenixcityal.gov
SUMMARY:City Council Work Session
DESCRIPTION:The City Council of the City of Phenix City will hold a regular Work Session Meeting in the Third Floor Conference Room of the Municipal Building at 3 p.m.\, Eastern Time:\n601 12th St.\nThird Floor\nPhenix City\, AL 36867
URL:https://phenixcityal.gov/events/city-council-work-session/
LOCATION:Municipal Building\, 601 12th St.\, Phenix City\, AL\, 36867\, United States
CATEGORIES:Council Meeting
GEO:32.468767;-85.001006
X-APPLE-STRUCTURED-LOCATION;VALUE=URI;X-ADDRESS=Municipal Building 601 12th St. Phenix City AL 36867 United States;X-APPLE-RADIUS=500;X-TITLE=601 12th St.:geo:-85.001006,32.468767
END:VEVENT
BEGIN:VEVENT
DTSTART;TZID=America/New_York:20160907T090000
DTEND;TZID=America/New_York:20160907T090000
DTSTAMP:20260420T001736
CREATED:20160315T201351Z
LAST-MODIFIED:20160802T185434Z
UID:10002337-1473238800-1473238800@phenixcityal.gov
SUMMARY:City Council Meeting
DESCRIPTION:The City Council of the City of Phenix City will hold a regular meeting in the Council Chambers\, located in the Public Safety Building at 9 a.m.\, Eastern Time:\n1111 Broad St.\nPhenix City\, AL 36867 \nSaid meeting is open to the public. For more information regarding council meetings\, please contact the City Clerk’s Office\, at 334-448-2720.
URL:https://phenixcityal.gov/events/city-council-meeting-7/
LOCATION:Council Chambers\, 1111 Broad St.\, Phenix City\, AL\, 36867\, United States
CATEGORIES:Council Meeting
GEO:32.467981;-85.000891
X-APPLE-STRUCTURED-LOCATION;VALUE=URI;X-ADDRESS=Council Chambers 1111 Broad St. Phenix City AL 36867 United States;X-APPLE-RADIUS=500;X-TITLE=1111 Broad St.:geo:-85.000891,32.467981
END:VEVENT
BEGIN:VEVENT
DTSTART;TZID=America/New_York:20160910T173000
DTEND;TZID=America/New_York:20160910T183000
DTSTAMP:20260420T001736
CREATED:20160315T205707Z
LAST-MODIFIED:20160316T121500Z
UID:10002360-1473528600-1473532200@phenixcityal.gov
SUMMARY:Library Board Meeting
DESCRIPTION:Members of the Phenix City-Russell County Library Board will conduct a regularly scheduled meeting at 5:30 p.m.\, Eastern Time\, at the Library:\n1501 17th Ave.\nPhenix City\, AL 36867 \nSaid meeting is open to the public.
URL:https://phenixcityal.gov/events/13409-2016-03-10/2016-09-10/
LOCATION:Phenix City-Russell County Library\, 1501 17th Ave.\, Phenix City\, AL\, 36867\, United States
CATEGORIES:Board Meeting
GEO:32.4751263;-85.0164134
X-APPLE-STRUCTURED-LOCATION;VALUE=URI;X-ADDRESS=Phenix City-Russell County Library 1501 17th Ave. Phenix City AL 36867 United States;X-APPLE-RADIUS=500;X-TITLE=1501 17th Ave.:geo:-85.0164134,32.4751263
END:VEVENT
BEGIN:VEVENT
DTSTART;TZID=America/New_York:20160920T180000
DTEND;TZID=America/New_York:20160920T180000
DTSTAMP:20260420T001736
CREATED:20160315T204417Z
LAST-MODIFIED:20160802T185203Z
UID:10002356-1474394400-1474394400@phenixcityal.gov
SUMMARY:City Council Meeting
DESCRIPTION:The City Council of the City of Phenix City will hold a regular meeting at the 5th Street South Youth Center at 6 p.m.\, Eastern Time:\n1601 5th St. S\nPhenix City\, AL 36869 \nSaid meeting is open to the public. For more information regarding council meetings\, please contact the City Clerk’s Office\, at 334-448-2720.
URL:https://phenixcityal.gov/events/city-council-meeting-19/
LOCATION:Phenix City Youth Center\, 1601 5th St. South\, Phenix City\, AL\, 36869\, United States
CATEGORIES:Council Meeting
GEO:32.437361;-85.015268
X-APPLE-STRUCTURED-LOCATION;VALUE=URI;X-ADDRESS=Phenix City Youth Center 1601 5th St. South Phenix City AL 36869 United States;X-APPLE-RADIUS=500;X-TITLE=1601 5th St. South:geo:-85.015268,32.437361
END:VEVENT
BEGIN:VEVENT
DTSTART;TZID=America/New_York:20160923T123000
DTEND;TZID=America/New_York:20160923T133000
DTSTAMP:20260420T001736
CREATED:20160316T122049Z
LAST-MODIFIED:20221028T202805Z
UID:10002370-1474633800-1474637400@phenixcityal.gov
SUMMARY:Museum Advisory Committee Meeting
DESCRIPTION:The Phenix City Museum Advisory Committee will hold its regularly scheduled monthly meeting at 12:30 p.m.\, Eastern Time\, in the Third Floor Conference Room of the Municipal Building:\n1119 Broad St.\nPhenix City\, AL 36867 \nAll meetings are open to the public. Interested parties are encouraged to attend.
URL:https://phenixcityal.gov/events/museum-advisory-committee-meeting-2016-03-23/2016-09-23/
LOCATION:Municipal Building\, 601 12th St.\, Phenix City\, AL\, 36867\, United States
CATEGORIES:Board Meeting
GEO:32.468767;-85.001006
X-APPLE-STRUCTURED-LOCATION;VALUE=URI;X-ADDRESS=Municipal Building 601 12th St. Phenix City AL 36867 United States;X-APPLE-RADIUS=500;X-TITLE=601 12th St.:geo:-85.001006,32.468767
END:VEVENT
BEGIN:VEVENT
DTSTART;TZID=America/New_York:20161001T130000
DTEND;TZID=America/New_York:20161001T180000
DTSTAMP:20260420T001736
CREATED:20160930T123847Z
LAST-MODIFIED:20170216T202407Z
UID:10002415-1475326800-1475344800@phenixcityal.gov
SUMMARY:Riverfront Fall Festival Series: GoPro Games
DESCRIPTION:GoPro Games from 1 to 6 p.m.\, Eastern Time! Enjoy an entire day of tech and competition at the Phenix City Riverfront Fall Series. Food and fun for the kids\, with a drone-flying area and many displays to watch. FREE ADMISSION! See the schedule below: \nSchedule\n\n1pm: Mini Motorcycle Competition\n1pm: WhiteWater Express Aquatic Competition\n1pm: Robotics Expo\n2pm: Big Wheel Competition\n2:30pm: TBD Student Performance\n3pm: Drone Trials Begin\n3pm: SumoBots Competition\n4:30pm: Muscogee Roller Derby Girls\n5pm: Drone Competition\n\nDJ\, Food Trucks\, and Adult Beverages\nDrone Competition\, Mountain Bicycle Competition\, Mini Motorcycle Competition\, Robotics demonstration\, Jump Rope Skippers demonstration and a WhiteWater Express competition\nKids Zone: Inflatable obstacle course\, Hula-hoop\, side walk chalk
URL:https://phenixcityal.gov/events/riverfront-fall-festival-series-gopro-games/
LOCATION:Whitewater Avenue\, 3rd Ave & 13th Street\, Phenix City\, AL\, 36867\, United States
CATEGORIES:Special Event
GEO:32.4709136;-84.9980929
X-APPLE-STRUCTURED-LOCATION;VALUE=URI;X-ADDRESS=Whitewater Avenue 3rd Ave & 13th Street Phenix City AL 36867 United States;X-APPLE-RADIUS=500;X-TITLE=3rd Ave & 13th Street:geo:-84.9980929,32.4709136
END:VEVENT
BEGIN:VEVENT
DTSTART;TZID=America/New_York:20161001T150000
DTEND;TZID=America/New_York:20161001T150000
DTSTAMP:20260420T001736
CREATED:20160802T180646Z
LAST-MODIFIED:20221028T200417Z
UID:10002408-1475334000-1475334000@phenixcityal.gov
SUMMARY:City Council Work Session
DESCRIPTION:The City Council of the City of Phenix City will hold a regular Work Session Meeting in the Third Floor Conference Room of the Municipal Building at 3 p.m.\, Eastern Time:\n601 12th St.\nThird Floor\nPhenix City\, AL 36867 \nAgendas & Minutes\nView the agenda and/or minutes associated with this meeting.
URL:https://phenixcityal.gov/events/14074/2016-10-01/
LOCATION:Municipal Building\, 601 12th St.\, Phenix City\, AL\, 36867\, United States
CATEGORIES:Council Meeting
GEO:32.468767;-85.001006
X-APPLE-STRUCTURED-LOCATION;VALUE=URI;X-ADDRESS=Municipal Building 601 12th St. Phenix City AL 36867 United States;X-APPLE-RADIUS=500;X-TITLE=601 12th St.:geo:-85.001006,32.468767
END:VEVENT
BEGIN:VEVENT
DTSTART;TZID=America/New_York:20161004T090000
DTEND;TZID=America/New_York:20161004T090000
DTSTAMP:20260420T001736
CREATED:20160930T125118Z
LAST-MODIFIED:20160930T125118Z
UID:10002417-1475571600-1475571600@phenixcityal.gov
SUMMARY:Public Hearing: 316 15th Ave. South
DESCRIPTION:Notice is hereby given that the City Council of the City of Phenix City\, Alabama\, will meet on October 4\, 2016\, at 9 a.m.\, Eastern Time\, in the Council Chambers\, 1111 Broad Street\, to consider the fixing of costs incurred by the City of Phenix City for the demolition and / or removal of a substandard structure or building located at 316 15th Avenue South\, Phenix City\, Alabama. \nView the official Resolution and Public Notice.
URL:https://phenixcityal.gov/events/public-hearing-316-15th-ave-south/
LOCATION:Council Chambers\, 1111 Broad St.\, Phenix City\, AL\, 36867\, United States
CATEGORIES:Public Hearing
GEO:32.467981;-85.000891
X-APPLE-STRUCTURED-LOCATION;VALUE=URI;X-ADDRESS=Council Chambers 1111 Broad St. Phenix City AL 36867 United States;X-APPLE-RADIUS=500;X-TITLE=1111 Broad St.:geo:-85.000891,32.467981
END:VEVENT
BEGIN:VEVENT
DTSTART;TZID=America/New_York:20161004T090000
DTEND;TZID=America/New_York:20161004T090000
DTSTAMP:20260420T001736
CREATED:20160315T201529Z
LAST-MODIFIED:20160802T184928Z
UID:10002339-1475571600-1475571600@phenixcityal.gov
SUMMARY:City Council Meeting
DESCRIPTION:The City Council of the City of Phenix City will hold a regular meeting in the Council Chambers\, located in the Public Safety Building at 9 a.m.\, Eastern Time:\n1111 Broad St.\nPhenix City\, AL 36867 \nSaid meeting is open to the public. For more information regarding council meetings\, please contact the City Clerk’s Office\, at 334-448-2720.
URL:https://phenixcityal.gov/events/city-council-meeting-8/
LOCATION:Council Chambers\, 1111 Broad St.\, Phenix City\, AL\, 36867\, United States
CATEGORIES:Council Meeting
GEO:32.467981;-85.000891
X-APPLE-STRUCTURED-LOCATION;VALUE=URI;X-ADDRESS=Council Chambers 1111 Broad St. Phenix City AL 36867 United States;X-APPLE-RADIUS=500;X-TITLE=1111 Broad St.:geo:-85.000891,32.467981
END:VEVENT
BEGIN:VEVENT
DTSTART;TZID=America/New_York:20161006T120000
DTEND;TZID=America/New_York:20161006T120000
DTSTAMP:20260420T001736
CREATED:20160316T132336Z
LAST-MODIFIED:20160930T122743Z
UID:10002388-1475755200-1475755200@phenixcityal.gov
SUMMARY:Historical Commission Meeting
DESCRIPTION:The Phenix City Historical Commission will hold a meeting at 12 Noon\, at the Russell County Historical Commission Headquarters Building:\nBuchanan House\n1040 Broad St.\nPhenix City\, Alabama 36867 \nSaid meeting shall be open to the public.
URL:https://phenixcityal.gov/events/historical-commission-meeting/2016-10-06/
LOCATION:Buchanan House\, 1040 Broad St.\, Phenix City\, AL\, 36867\, United States
CATEGORIES:Board Meeting
GEO:32.4670094;-85.0007703
X-APPLE-STRUCTURED-LOCATION;VALUE=URI;X-ADDRESS=Buchanan House 1040 Broad St. Phenix City AL 36867 United States;X-APPLE-RADIUS=500;X-TITLE=1040 Broad St.:geo:-85.0007703,32.4670094
END:VEVENT
BEGIN:VEVENT
DTSTART;TZID=America/New_York:20161007T130000
DTEND;TZID=America/New_York:20161007T130000
DTSTAMP:20260420T001736
CREATED:20161005T122131Z
LAST-MODIFIED:20161005T122131Z
UID:10002317-1475845200-1475845200@phenixcityal.gov
SUMMARY:Child Advocacy Golf Tournament
DESCRIPTION:Child Advocacy Golf Tournament at Lakewood Golf Course\, 1 p.m.\, EDT start
URL:https://phenixcityal.gov/events/child-advocacy-golf-tournament/
LOCATION:Lakewood Golf Course\, 2800 Lakewood Drive\, Phenix City\, AL\, 36867\, United States
CATEGORIES:Golf Course
GEO:32.5036453;-85.0325704
X-APPLE-STRUCTURED-LOCATION;VALUE=URI;X-ADDRESS=Lakewood Golf Course 2800 Lakewood Drive Phenix City AL 36867 United States;X-APPLE-RADIUS=500;X-TITLE=2800 Lakewood Drive:geo:-85.0325704,32.5036453
END:VEVENT
BEGIN:VEVENT
DTSTART;TZID=America/New_York:20161010T080000
DTEND;TZID=America/New_York:20161010T170000
DTSTAMP:20260420T001736
CREATED:20160316T125410Z
LAST-MODIFIED:20160316T125410Z
UID:10002377-1476086400-1476118800@phenixcityal.gov
SUMMARY:CITY OFFICES CLOSED: Columbus Day Holiday Observed
DESCRIPTION:City offices will be closed Monday\, October 10\, 2016\, to observe the Columbus Day holiday. Offices will reopen Tuesday\, October 11\, 2016\, at 8 a.m.\, Eastern Time.
URL:https://phenixcityal.gov/events/city-offices-closed-columbus-day-holiday-observed/
LOCATION:City of Phenix City\, 601 12th St.\, Phenix City\, AL\, 36867\, United States
CATEGORIES:Holiday
GEO:32.4690636;-85.000775
X-APPLE-STRUCTURED-LOCATION;VALUE=URI;X-ADDRESS=City of Phenix City 601 12th St. Phenix City AL 36867 United States;X-APPLE-RADIUS=500;X-TITLE=601 12th St.:geo:-85.000775,32.4690636
END:VEVENT
BEGIN:VEVENT
DTSTART;TZID=America/New_York:20161011T171500
DTEND;TZID=America/New_York:20161011T171500
DTSTAMP:20260420T001736
CREATED:20161011T202517Z
LAST-MODIFIED:20221028T201707Z
UID:10002323-1476206100-1476206100@phenixcityal.gov
SUMMARY:Planning Commission Meeting
DESCRIPTION:Notice is hereby given that the Planning Commission of the City of Phenix City\, Alabama\, will hold a regular meeting at 5:15 p.m.\, Eastern Time\, in the Council Chambers\, located in the Public Safety Building:\n1111 Broad Street\nPhenix City\, AL 36867
URL:https://phenixcityal.gov/events/planning-commission-meeting/2016-10-11/
LOCATION:Council Chambers\, 1111 Broad St.\, Phenix City\, AL\, 36867\, United States
CATEGORIES:Board Meeting
GEO:32.467981;-85.000891
X-APPLE-STRUCTURED-LOCATION;VALUE=URI;X-ADDRESS=Council Chambers 1111 Broad St. Phenix City AL 36867 United States;X-APPLE-RADIUS=500;X-TITLE=1111 Broad St.:geo:-85.000891,32.467981
END:VEVENT
END:VCALENDAR