BEGIN:VCALENDAR
VERSION:2.0
PRODID:-//Phenix City, Alabama - ECPv6.15.13.1//NONSGML v1.0//EN
CALSCALE:GREGORIAN
METHOD:PUBLISH
X-WR-CALNAME:Phenix City, Alabama
X-ORIGINAL-URL:https://phenixcityal.gov
X-WR-CALDESC:Events for Phenix City, Alabama
REFRESH-INTERVAL;VALUE=DURATION:PT1H
X-Robots-Tag:noindex
X-PUBLISHED-TTL:PT1H
BEGIN:VTIMEZONE
TZID:America/New_York
BEGIN:DAYLIGHT
TZOFFSETFROM:-0500
TZOFFSETTO:-0400
TZNAME:EDT
DTSTART:20160313T070000
END:DAYLIGHT
BEGIN:STANDARD
TZOFFSETFROM:-0400
TZOFFSETTO:-0500
TZNAME:EST
DTSTART:20161106T060000
END:STANDARD
BEGIN:DAYLIGHT
TZOFFSETFROM:-0500
TZOFFSETTO:-0400
TZNAME:EDT
DTSTART:20170312T070000
END:DAYLIGHT
BEGIN:STANDARD
TZOFFSETFROM:-0400
TZOFFSETTO:-0500
TZNAME:EST
DTSTART:20171105T060000
END:STANDARD
BEGIN:DAYLIGHT
TZOFFSETFROM:-0500
TZOFFSETTO:-0400
TZNAME:EDT
DTSTART:20180311T070000
END:DAYLIGHT
BEGIN:STANDARD
TZOFFSETFROM:-0400
TZOFFSETTO:-0500
TZNAME:EST
DTSTART:20181104T060000
END:STANDARD
END:VTIMEZONE
BEGIN:VEVENT
DTSTART;TZID=America/New_York:20170104T090000
DTEND;TZID=America/New_York:20170104T090000
DTSTAMP:20260421T083953
CREATED:20161208T182609Z
LAST-MODIFIED:20161208T182609Z
UID:10002520-1483520400-1483520400@phenixcityal.gov
SUMMARY:Meeting to Consider the Fixing of Costs for Substandard Structures
DESCRIPTION:Notice is hereby given that the City Council of the City of Phenix City\, Alabama\, will meet on January 4\, 2017\, at 9 a.m.\, Eastern Time\, in the Council Chambers\, 1111 Broad Street\, to consider the fixing of costs incurred by the City of Phenix City for the demolition and/or removal of  substandard buildings or structures at the following locations in Phenix City\, Alabama: \nResolution No. 2016-378: 2000 4th Avenue \nResolution No. 2016-379: 910 8th Avenue \nResolution No. 2016-380: 706 Dillingham Street \nResolution No. 2016-381: 2400 31st Street \nResolution No. 2016-382: 918 North Railroad Street
URL:https://phenixcityal.gov/events/meeting-consider-fixing-costs-substandard-structures/
LOCATION:Council Chambers\, 1111 Broad St.\, Phenix City\, AL\, 36867\, United States
CATEGORIES:Council Meeting
GEO:32.467981;-85.000891
X-APPLE-STRUCTURED-LOCATION;VALUE=URI;X-ADDRESS=Council Chambers 1111 Broad St. Phenix City AL 36867 United States;X-APPLE-RADIUS=500;X-TITLE=1111 Broad St.:geo:-85.000891,32.467981
END:VEVENT
BEGIN:VEVENT
DTSTART;TZID=America/New_York:20170104T090000
DTEND;TZID=America/New_York:20170104T090000
DTSTAMP:20260421T083953
CREATED:20161130T162628Z
LAST-MODIFIED:20161205T215022Z
UID:10002442-1483520400-1483520400@phenixcityal.gov
SUMMARY:City Council Meeting
DESCRIPTION:The City Council of the City of Phenix City will hold a regular meeting in the Council Chambers\, located in the Public Safety Building at 9 a.m.\, Eastern Time:\n1111 Broad St.\nPhenix City\, AL 36867 \nSaid meeting is open to the public. For more information regarding council meetings\, please contact the City Clerk’s Office\, at 334-448-2720. \nAgendas & Minutes\nView the agenda and/or minutes associated with this meeting.
URL:https://phenixcityal.gov/events/city-council-meeting-20/2017-01-04/
LOCATION:Council Chambers\, 1111 Broad St.\, Phenix City\, AL\, 36867\, United States
CATEGORIES:Council Meeting
GEO:32.467981;-85.000891
X-APPLE-STRUCTURED-LOCATION;VALUE=URI;X-ADDRESS=Council Chambers 1111 Broad St. Phenix City AL 36867 United States;X-APPLE-RADIUS=500;X-TITLE=1111 Broad St.:geo:-85.000891,32.467981
END:VEVENT
BEGIN:VEVENT
DTSTART;TZID=America/New_York:20170110T171500
DTEND;TZID=America/New_York:20170110T171500
DTSTAMP:20260421T083953
CREATED:20170109T183607Z
LAST-MODIFIED:20170109T183607Z
UID:10002560-1484068500-1484068500@phenixcityal.gov
SUMMARY:Planning Commission Meeting
DESCRIPTION:The Planning Commission of the City of Phenix City will hold a regular meeting in the Council Chambers\, located in the Public Safety Building\, at 5:15 p.m.\, Eastern Time:\n1111 Broad Street\nPhenix City\, AL 36867 \nSaid meeting is open to the public. For more information regarding Planning Commission meetings\, please contact the Engineering / Public Works Department at 334-448-2760. \nAgendas & Minutes\nView the agenda and/or minutes associated with this meeting.
URL:https://phenixcityal.gov/events/planning-commission-meeting-2/2017-01-10/
LOCATION:Council Chambers\, 1111 Broad St.\, Phenix City\, AL\, 36867\, United States
CATEGORIES:Board Meeting
GEO:32.467981;-85.000891
X-APPLE-STRUCTURED-LOCATION;VALUE=URI;X-ADDRESS=Council Chambers 1111 Broad St. Phenix City AL 36867 United States;X-APPLE-RADIUS=500;X-TITLE=1111 Broad St.:geo:-85.000891,32.467981
END:VEVENT
BEGIN:VEVENT
DTSTART;TZID=America/New_York:20170112T173000
DTEND;TZID=America/New_York:20170112T173000
DTSTAMP:20260421T083953
CREATED:20161205T141728Z
LAST-MODIFIED:20161205T141728Z
UID:10002517-1484242200-1484242200@phenixcityal.gov
SUMMARY:Library Board Meeting
DESCRIPTION:The members of the Phenix City-Russell County Library Board will conduct a regularly scheduled meeting at 5:30 p.m.\, Eastern Time\, in the Phenix City-Russell County Library located at 1501 17th Avenue\, Phenix City\, Alabama. \nThe meeting is open to the public.
URL:https://phenixcityal.gov/events/library-board-meeting/2017-01-12/
LOCATION:Phenix City-Russell County Library\, 1501 17th Ave.\, Phenix City\, AL\, 36867\, United States
CATEGORIES:Board Meeting
GEO:32.4751263;-85.0164134
X-APPLE-STRUCTURED-LOCATION;VALUE=URI;X-ADDRESS=Phenix City-Russell County Library 1501 17th Ave. Phenix City AL 36867 United States;X-APPLE-RADIUS=500;X-TITLE=1501 17th Ave.:geo:-85.0164134,32.4751263
END:VEVENT
BEGIN:VEVENT
DTSTART;TZID=America/New_York:20170116T080000
DTEND;TZID=America/New_York:20170116T170000
DTSTAMP:20260421T083954
CREATED:20161129T164652Z
LAST-MODIFIED:20161129T164652Z
UID:10002436-1484553600-1484586000@phenixcityal.gov
SUMMARY:CITY OFFICES CLOSED: Martin Luther King\, Jr. Holiday Observed
DESCRIPTION:City offices will be closed Monday\, January 16\, 2017\, to observe the Martin Luther King\, Jr. holiday. Offices will reopen Tuesday\, January 17\, 2017\, at 8 a.m.\, Eastern Time.
URL:https://phenixcityal.gov/events/city-offices-closed-martin-luther-king-jr-holiday-observed/
LOCATION:City of Phenix City\, 601 12th St.\, Phenix City\, AL\, 36867\, United States
CATEGORIES:Holiday
GEO:32.4690636;-85.000775
X-APPLE-STRUCTURED-LOCATION;VALUE=URI;X-ADDRESS=City of Phenix City 601 12th St. Phenix City AL 36867 United States;X-APPLE-RADIUS=500;X-TITLE=601 12th St.:geo:-85.000775,32.4690636
END:VEVENT
BEGIN:VEVENT
DTSTART;TZID=America/New_York:20170119T150000
DTEND;TZID=America/New_York:20170119T150000
DTSTAMP:20260421T083954
CREATED:20161205T141336Z
LAST-MODIFIED:20170119T134408Z
UID:10002482-1484838000-1484838000@phenixcityal.gov
SUMMARY:CANCELLED: Downtown Redevelopment Authority Meeting
DESCRIPTION:Public Notice of Cancellation\nNotice is hereby given that the regularly scheduled meeting of the Downtown Redevelopment Authority set for 3 p.m.\, Eastern Time\, Thursday\, January 9\, 2017\, is hereby cancelled due to lack of agenda items. \nSee the official Public Notice. \nOriginal Meeting Notice\nThe members of the Downtown Redevelopment Authority (DRA) of the City of Phenix City\, Alabama\, is conducting a regularly scheduled\, quarterly meeting at 3 p.m.\, Eastern Time\, in the Third Floor Conference Room of the Municipal Building located at 601 12th Street\, Phenix City\, Alabama. \nThe meeting is open to the public. \n 
URL:https://phenixcityal.gov/events/dra-meeting/
LOCATION:Municipal Building\, 601 12th St.\, Phenix City\, AL\, 36867\, United States
CATEGORIES:Board Meeting
GEO:32.468767;-85.001006
X-APPLE-STRUCTURED-LOCATION;VALUE=URI;X-ADDRESS=Municipal Building 601 12th St. Phenix City AL 36867 United States;X-APPLE-RADIUS=500;X-TITLE=601 12th St.:geo:-85.001006,32.468767
END:VEVENT
BEGIN:VEVENT
DTSTART;TZID=America/New_York:20170119T173000
DTEND;TZID=America/New_York:20170119T173000
DTSTAMP:20260421T083954
CREATED:20161207T191804Z
LAST-MODIFIED:20161207T191804Z
UID:10002518-1484847000-1484847000@phenixcityal.gov
SUMMARY:Board of Zoning Adjustment & Appeals Meeting
DESCRIPTION:Notice is hereby given that the City of Phenix City Board of Zoning Adjustment and Appeals will a regular meeting at 5:30 p.m.\, Eastern Time\, in Council Chambers of the Phenix City Public Safety Building:\n1111 Broad Street\nPhenix City\, Alabama 36867 \nCases must be filed twenty-one (21) days prior to meeting.  Should there be no cases filed for any month\, the meeting shall be deemed cancelled. For verification of meeting or agenda\, please call 334-448-2740.
URL:https://phenixcityal.gov/events/board-zoning-adjustment-appeals-meeting-2/2017-01-19/
LOCATION:Council Chambers\, 1111 Broad St.\, Phenix City\, AL\, 36867\, United States
CATEGORIES:Board Meeting
GEO:32.467981;-85.000891
X-APPLE-STRUCTURED-LOCATION;VALUE=URI;X-ADDRESS=Council Chambers 1111 Broad St. Phenix City AL 36867 United States;X-APPLE-RADIUS=500;X-TITLE=1111 Broad St.:geo:-85.000891,32.467981
END:VEVENT
BEGIN:VEVENT
DTSTART;TZID=America/New_York:20170119T180000
DTEND;TZID=America/New_York:20170119T180000
DTSTAMP:20260421T083954
CREATED:20170110T192345Z
LAST-MODIFIED:20170110T192345Z
UID:10002567-1484848800-1484848800@phenixcityal.gov
SUMMARY:State of the City Address
DESCRIPTION:Mayor Lowe and the City Council of the City of Phenix City will hold the annual State of the City Address on Thursday\, January 19\, 2017\, at 6 p.m.\, Eastern Time\, in the auditorium of the Central Activity Center\, located at 1500 14th Street in Phenix City. \nMayor Lowe and Council will be reviewing the city’s financial statements\, the status of current City projects\, as well as future city projects\, and other issues relevant to the citizens of Phenix City. \nThe public is encouraged to attend. \nView the official Public Notice.
URL:https://phenixcityal.gov/events/state-city-address/
LOCATION:Central Activity Center\, 1500 14th St.\, Phenix City\, AL\, 36867\, United States
CATEGORIES:Council Meeting,Special Event
GEO:32.473098;-85.014788
X-APPLE-STRUCTURED-LOCATION;VALUE=URI;X-ADDRESS=Central Activity Center 1500 14th St. Phenix City AL 36867 United States;X-APPLE-RADIUS=500;X-TITLE=1500 14th St.:geo:-85.014788,32.473098
END:VEVENT
BEGIN:VEVENT
DTSTART;TZID=America/New_York:20170121T100000
DTEND;TZID=America/New_York:20170121T140000
DTSTAMP:20260421T083954
CREATED:20170110T141205Z
LAST-MODIFIED:20170216T202407Z
UID:10002564-1484992800-1485007200@phenixcityal.gov
SUMMARY:2017 Spring Sports Registration
DESCRIPTION:Available Sports\nSpring Sports registration is being held at the Roy Martin Center for the following sports: \n\nCoach Pitch Baseball\nPhenix City Youth Baseball\nSlow Pitch Softball\nFast Pitch Softball\nPhenix City Youth Soccer\n\nDates\nSaturdays: 1/21 | 1/28 | 2/4 from 10 a.m. – 2 p.m.\, EST\nSundays: 1/22 | 1/29 | 2/4 from 2-4 p.m.\, EST \nFlyer\nSee flyer for details:
URL:https://phenixcityal.gov/events/2017-spring-sports-registration/
LOCATION:Roy Martin Center\, 1100 Airport Road\, Phenix City\, AL\, 36867\, United States
CATEGORIES:Parks & Recreation
GEO:32.4994247;-85.0137406
X-APPLE-STRUCTURED-LOCATION;VALUE=URI;X-ADDRESS=Roy Martin Center 1100 Airport Road Phenix City AL 36867 United States;X-APPLE-RADIUS=500;X-TITLE=1100 Airport Road:geo:-85.0137406,32.4994247
END:VEVENT
BEGIN:VEVENT
DTSTART;TZID=America/New_York:20170122T140000
DTEND;TZID=America/New_York:20170122T160000
DTSTAMP:20260421T083954
CREATED:20170110T141512Z
LAST-MODIFIED:20170216T202406Z
UID:10002566-1485093600-1485100800@phenixcityal.gov
SUMMARY:2017 Spring Sports Registration
DESCRIPTION:Available Sports\nSpring Sports registration is being held at the Roy Martin Center for the following sports: \n\nCoach Pitch Baseball\nPhenix City Youth Baseball\nSlow Pitch Softball\nFast Pitch Softball\nPhenix City Youth Soccer\n\nDates\nSaturdays: 1/21 | 1/28 | 2/4 from 10 a.m. – 2 p.m.\, EST\nSundays: 1/22 | 1/29 | 2/4 from 2-4 p.m.\, EST \nFlyer\nSee flyer for details:
URL:https://phenixcityal.gov/events/spring-sports-registration/
LOCATION:Roy Martin Center\, 1100 Airport Road\, Phenix City\, AL\, 36867\, United States
CATEGORIES:Parks & Recreation
GEO:32.4994247;-85.0137406
X-APPLE-STRUCTURED-LOCATION;VALUE=URI;X-ADDRESS=Roy Martin Center 1100 Airport Road Phenix City AL 36867 United States;X-APPLE-RADIUS=500;X-TITLE=1100 Airport Road:geo:-85.0137406,32.4994247
END:VEVENT
END:VCALENDAR