BEGIN:VCALENDAR
VERSION:2.0
PRODID:-//Phenix City, Alabama - ECPv6.15.13.1//NONSGML v1.0//EN
CALSCALE:GREGORIAN
METHOD:PUBLISH
X-ORIGINAL-URL:https://phenixcityal.gov
X-WR-CALDESC:Events for Phenix City, Alabama
REFRESH-INTERVAL;VALUE=DURATION:PT1H
X-Robots-Tag:noindex
X-PUBLISHED-TTL:PT1H
BEGIN:VTIMEZONE
TZID:America/New_York
BEGIN:DAYLIGHT
TZOFFSETFROM:-0500
TZOFFSETTO:-0400
TZNAME:EDT
DTSTART:20160313T070000
END:DAYLIGHT
BEGIN:STANDARD
TZOFFSETFROM:-0400
TZOFFSETTO:-0500
TZNAME:EST
DTSTART:20161106T060000
END:STANDARD
BEGIN:DAYLIGHT
TZOFFSETFROM:-0500
TZOFFSETTO:-0400
TZNAME:EDT
DTSTART:20170312T070000
END:DAYLIGHT
BEGIN:STANDARD
TZOFFSETFROM:-0400
TZOFFSETTO:-0500
TZNAME:EST
DTSTART:20171105T060000
END:STANDARD
BEGIN:DAYLIGHT
TZOFFSETFROM:-0500
TZOFFSETTO:-0400
TZNAME:EDT
DTSTART:20180311T070000
END:DAYLIGHT
BEGIN:STANDARD
TZOFFSETFROM:-0400
TZOFFSETTO:-0500
TZNAME:EST
DTSTART:20181104T060000
END:STANDARD
END:VTIMEZONE
BEGIN:VEVENT
DTSTART;TZID=America/New_York:20170318T170000
DTEND;TZID=America/New_York:20170318T180000
DTSTAMP:20260420T100432
CREATED:20170214T202617Z
LAST-MODIFIED:20170216T202406Z
UID:10002575-1489856400-1489860000@phenixcityal.gov
SUMMARY:OPRY at the CAC
DESCRIPTION:OPRY at the Central Activity Center\nCome join in the fun as we pay tribute to the legends of country music! This annual show is held in the auditorium of the beautiful Central Activity Center located at 1500 14th Street in downtown Phenix City\, Alabama. Doors open at 4 p.m.\, Eastern Time\, and the show runs from 5 to 6 p.m. Tickets may be purchased at the Central Activity Center and are on sale now! Seating is limited. Tickets are $10\, and include a barbecue sandwich\, chips\, and a drink. \nFeatured guests are Donnie Thomas\, GP-38\, Ray Shavers and Rebecca Harris. Christian Comedian\, Sam Beman\, will emcee. \nThis is fun show for all ages. Call The Central Activity Center for more information at 334- 291-4743.
URL:https://phenixcityal.gov/events/opry-at-the-cac/
LOCATION:Central Activity Center\, 1500 14th St.\, Phenix City\, AL\, 36867\, United States
CATEGORIES:Concert,Special Event
GEO:32.473098;-85.014788
X-APPLE-STRUCTURED-LOCATION;VALUE=URI;X-ADDRESS=Central Activity Center 1500 14th St. Phenix City AL 36867 United States;X-APPLE-RADIUS=500;X-TITLE=1500 14th St.:geo:-85.014788,32.473098
END:VEVENT
END:VCALENDAR