BEGIN:VCALENDAR
VERSION:2.0
PRODID:-//Phenix City, Alabama - ECPv6.15.13.1//NONSGML v1.0//EN
CALSCALE:GREGORIAN
METHOD:PUBLISH
X-WR-CALNAME:Phenix City, Alabama
X-ORIGINAL-URL:https://phenixcityal.gov
X-WR-CALDESC:Events for Phenix City, Alabama
REFRESH-INTERVAL;VALUE=DURATION:PT1H
X-Robots-Tag:noindex
X-PUBLISHED-TTL:PT1H
BEGIN:VTIMEZONE
TZID:America/New_York
BEGIN:DAYLIGHT
TZOFFSETFROM:-0500
TZOFFSETTO:-0400
TZNAME:EDT
DTSTART:20150308T070000
END:DAYLIGHT
BEGIN:STANDARD
TZOFFSETFROM:-0400
TZOFFSETTO:-0500
TZNAME:EST
DTSTART:20151101T060000
END:STANDARD
BEGIN:DAYLIGHT
TZOFFSETFROM:-0500
TZOFFSETTO:-0400
TZNAME:EDT
DTSTART:20160313T070000
END:DAYLIGHT
BEGIN:STANDARD
TZOFFSETFROM:-0400
TZOFFSETTO:-0500
TZNAME:EST
DTSTART:20161106T060000
END:STANDARD
BEGIN:DAYLIGHT
TZOFFSETFROM:-0500
TZOFFSETTO:-0400
TZNAME:EDT
DTSTART:20170312T070000
END:DAYLIGHT
BEGIN:STANDARD
TZOFFSETFROM:-0400
TZOFFSETTO:-0500
TZNAME:EST
DTSTART:20171105T060000
END:STANDARD
END:VTIMEZONE
BEGIN:VEVENT
DTSTART;TZID=America/New_York:20161114T150000
DTEND;TZID=America/New_York:20161114T150000
DTSTAMP:20260419T145749
CREATED:20160802T181659Z
LAST-MODIFIED:20221028T200223Z
UID:10002414-1479135600-1479135600@phenixcityal.gov
SUMMARY:City Council Work Session
DESCRIPTION:The City Council of the City of Phenix City will hold a regular Work Session Meeting in the Third Floor Conference Room of the Municipal Building at 3 p.m.\, Eastern Time:\n601 12th St.\nThird Floor\nPhenix City\, AL 36867
URL:https://phenixcityal.gov/events/city-council-work-session-3/
LOCATION:Municipal Building\, 601 12th St.\, Phenix City\, AL\, 36867\, United States
CATEGORIES:Council Meeting
GEO:32.468767;-85.001006
X-APPLE-STRUCTURED-LOCATION;VALUE=URI;X-ADDRESS=Municipal Building 601 12th St. Phenix City AL 36867 United States;X-APPLE-RADIUS=500;X-TITLE=601 12th St.:geo:-85.001006,32.468767
END:VEVENT
END:VCALENDAR