BEGIN:VCALENDAR
VERSION:2.0
PRODID:-//Phenix City, Alabama - ECPv6.15.13.1//NONSGML v1.0//EN
CALSCALE:GREGORIAN
METHOD:PUBLISH
X-ORIGINAL-URL:https://phenixcityal.gov
X-WR-CALDESC:Events for Phenix City, Alabama
REFRESH-INTERVAL;VALUE=DURATION:PT1H
X-Robots-Tag:noindex
X-PUBLISHED-TTL:PT1H
BEGIN:VTIMEZONE
TZID:America/New_York
BEGIN:DAYLIGHT
TZOFFSETFROM:-0500
TZOFFSETTO:-0400
TZNAME:EDT
DTSTART:20150308T070000
END:DAYLIGHT
BEGIN:STANDARD
TZOFFSETFROM:-0400
TZOFFSETTO:-0500
TZNAME:EST
DTSTART:20151101T060000
END:STANDARD
BEGIN:DAYLIGHT
TZOFFSETFROM:-0500
TZOFFSETTO:-0400
TZNAME:EDT
DTSTART:20160313T070000
END:DAYLIGHT
BEGIN:STANDARD
TZOFFSETFROM:-0400
TZOFFSETTO:-0500
TZNAME:EST
DTSTART:20161106T060000
END:STANDARD
BEGIN:DAYLIGHT
TZOFFSETFROM:-0500
TZOFFSETTO:-0400
TZNAME:EDT
DTSTART:20170312T070000
END:DAYLIGHT
BEGIN:STANDARD
TZOFFSETFROM:-0400
TZOFFSETTO:-0500
TZNAME:EST
DTSTART:20171105T060000
END:STANDARD
END:VTIMEZONE
BEGIN:VEVENT
DTSTART;TZID=America/New_York:20161111T080000
DTEND;TZID=America/New_York:20161111T170000
DTSTAMP:20260419T145911
CREATED:20160316T125610Z
LAST-MODIFIED:20161110T154940Z
UID:10002378-1478851200-1478883600@phenixcityal.gov
SUMMARY:CITY OFFICES CLOSED: Veterans Day Holiday Observed
DESCRIPTION:City offices will be closed Friday\, November 11\, 2016\, to observe the Veterans Day holiday. Offices will reopen Monday\, November 14\, 2016\, at 8 a.m.\, Eastern Time. \n*Trash pickup will remain UNCHANGED for customers who receive garbage collection on Fridays.
URL:https://phenixcityal.gov/events/city-offices-closed-veterans-day-holiday-observed/
LOCATION:City of Phenix City\, 601 12th St.\, Phenix City\, AL\, 36867\, United States
CATEGORIES:Holiday
GEO:32.4690636;-85.000775
X-APPLE-STRUCTURED-LOCATION;VALUE=URI;X-ADDRESS=City of Phenix City 601 12th St. Phenix City AL 36867 United States;X-APPLE-RADIUS=500;X-TITLE=601 12th St.:geo:-85.000775,32.4690636
END:VEVENT
BEGIN:VEVENT
DTSTART;TZID=America/New_York:20161111T171500
DTEND;TZID=America/New_York:20161111T171500
DTSTAMP:20260419T145911
CREATED:20161011T202517Z
LAST-MODIFIED:20221028T201707Z
UID:10002324-1478884500-1478884500@phenixcityal.gov
SUMMARY:Planning Commission Meeting
DESCRIPTION:Notice is hereby given that the Planning Commission of the City of Phenix City\, Alabama\, will hold a regular meeting at 5:15 p.m.\, Eastern Time\, in the Council Chambers\, located in the Public Safety Building:\n1111 Broad Street\nPhenix City\, AL 36867
URL:https://phenixcityal.gov/events/planning-commission-meeting/2016-11-11/
LOCATION:Council Chambers\, 1111 Broad St.\, Phenix City\, AL\, 36867\, United States
CATEGORIES:Board Meeting
GEO:32.467981;-85.000891
X-APPLE-STRUCTURED-LOCATION;VALUE=URI;X-ADDRESS=Council Chambers 1111 Broad St. Phenix City AL 36867 United States;X-APPLE-RADIUS=500;X-TITLE=1111 Broad St.:geo:-85.000891,32.467981
END:VEVENT
END:VCALENDAR