BEGIN:VCALENDAR
VERSION:2.0
PRODID:-//Phenix City, Alabama - ECPv6.15.13.1//NONSGML v1.0//EN
CALSCALE:GREGORIAN
METHOD:PUBLISH
X-ORIGINAL-URL:https://phenixcityal.gov
X-WR-CALDESC:Events for Phenix City, Alabama
REFRESH-INTERVAL;VALUE=DURATION:PT1H
X-Robots-Tag:noindex
X-PUBLISHED-TTL:PT1H
BEGIN:VTIMEZONE
TZID:America/New_York
BEGIN:DAYLIGHT
TZOFFSETFROM:-0500
TZOFFSETTO:-0400
TZNAME:EDT
DTSTART:20150308T070000
END:DAYLIGHT
BEGIN:STANDARD
TZOFFSETFROM:-0400
TZOFFSETTO:-0500
TZNAME:EST
DTSTART:20151101T060000
END:STANDARD
BEGIN:DAYLIGHT
TZOFFSETFROM:-0500
TZOFFSETTO:-0400
TZNAME:EDT
DTSTART:20160313T070000
END:DAYLIGHT
BEGIN:STANDARD
TZOFFSETFROM:-0400
TZOFFSETTO:-0500
TZNAME:EST
DTSTART:20161106T060000
END:STANDARD
BEGIN:DAYLIGHT
TZOFFSETFROM:-0500
TZOFFSETTO:-0400
TZNAME:EDT
DTSTART:20170312T070000
END:DAYLIGHT
BEGIN:STANDARD
TZOFFSETFROM:-0400
TZOFFSETTO:-0500
TZNAME:EST
DTSTART:20171105T060000
END:STANDARD
END:VTIMEZONE
BEGIN:VEVENT
DTSTART;TZID=America/New_York:20161110T100000
DTEND;TZID=America/New_York:20161110T100000
DTSTAMP:20260419T134032
CREATED:20161025T204554Z
LAST-MODIFIED:20161025T204554Z
UID:10002428-1478772000-1478772000@phenixcityal.gov
SUMMARY:BID: WWTP Screw Pump Gear Boxes Rebuild @ 10 a.m.
DESCRIPTION:Waste Water Treatment Plant Fence Line Replacement\nTo open November 10\, 2016 at 10 a.m.\, Eastern Time \nThe City of Phenix City / Utilities Department will be soliciting bids for the following work: \nTo have the #1 and #2 Screw Pump Gear Boxes Rebuilt\, located at the City of Phenix City’s Wastewater Treatment Plant\n \nBid Submission\nBids must be submitted on the bid form (linked below) in a sealed envelope marked:\nPhenix City Utilities Dept. / WWTP’s #1 and #2 Screw Pump Gear Boxes Rebuild\n \nBids must be submitted no later than Thursday\, November 10\, 2016\, at 2 p.m.\, Eastern Time at:\nPhenix City Finance Department\nAttn: Purchasing Agent\n601 12th Street\nSecond Floor\nPhenix City\, AL 36867 \nView the Bid Specifications and Bid Form.
URL:https://phenixcityal.gov/events/bid-wwtp-screw-pump-gear-boxes-rebuild-10-m/
LOCATION:Council Chambers\, 1111 Broad St.\, Phenix City\, AL\, 36867\, United States
CATEGORIES:Bid Opportunities
GEO:32.467981;-85.000891
X-APPLE-STRUCTURED-LOCATION;VALUE=URI;X-ADDRESS=Council Chambers 1111 Broad St. Phenix City AL 36867 United States;X-APPLE-RADIUS=500;X-TITLE=1111 Broad St.:geo:-85.000891,32.467981
END:VEVENT
BEGIN:VEVENT
DTSTART;TZID=America/New_York:20161110T140000
DTEND;TZID=America/New_York:20161110T140000
DTSTAMP:20260419T134032
CREATED:20161025T203357Z
LAST-MODIFIED:20161025T204653Z
UID:10002427-1478786400-1478786400@phenixcityal.gov
SUMMARY:BID: WWTP South Fence Line Replacement @ 2 p.m.
DESCRIPTION:Waste Water Treatment Plant Fence Line Replacement\nTo open November 10\, 2016 at 2 p.m.\, Eastern Time \nThe City of Phenix City / Utilities Department will be soliciting bids for the following work: \nReplacement of approximately 800 feet of 6-foot-tall\, chain-link fence at the Waste Water Treatment Plant \nBid Submission\nBids must be submitted on the bid form (linked below) in a sealed envelope marked:\nPhenix City Utilities Dept. / WWTP South Fence Line \nBids must be submitted no later than Thursday\, November 10\, 2016\, at 2 p.m.\, Eastern Time at:\nPhenix City Finance Department\nAttn: Purchasing Agent\n601 12th Street\nSecond Floor\nPhenix City\, AL 36867 \nView the Bid Specifications and Bid Form. \n 
URL:https://phenixcityal.gov/events/bid-u16-23-wwtp-south-fence-line-replacement/
LOCATION:Council Chambers\, 1111 Broad St.\, Phenix City\, AL\, 36867\, United States
CATEGORIES:Bid Opportunities
GEO:32.467981;-85.000891
X-APPLE-STRUCTURED-LOCATION;VALUE=URI;X-ADDRESS=Council Chambers 1111 Broad St. Phenix City AL 36867 United States;X-APPLE-RADIUS=500;X-TITLE=1111 Broad St.:geo:-85.000891,32.467981
END:VEVENT
BEGIN:VEVENT
DTSTART;TZID=America/New_York:20161110T170000
DTEND;TZID=America/New_York:20161110T190000
DTSTAMP:20260419T134032
CREATED:20161103T180748Z
LAST-MODIFIED:20170216T202407Z
UID:10002430-1478797200-1478804400@phenixcityal.gov
SUMMARY:ADA Transition Plan Meeting
DESCRIPTION:The City of Phenix City is developing an Americans with Disabilities Act (ADA) Transition Plan for Public Rights of Way. A public comment period will be held from November 10\, 2016\, to November 25\, 2016. Those interested persons\, including individuals with disabilities or organizations representing individuals with disabilities are requested to participate in the development of this transition plan. \nPublic Meeting\nA public meeting for the transition plan will be held on November 10\, 2016\, at the Central Activity Center Dining Hall\, located at 1500 14th Street\, Phenix City\, Alabama 36867\, from 5 to 7 p.m.\, Eastern Time\, to solicit comments from the public. \nComments & Plan Recommendations\nPlease submit comments or specific recommendations for modifications to city facilities\, programs\, services\, and activities to:\nCity Hall\nATTN: ADA Coordinator Gil Griffith\n601 12th Street\nPhenix City\, AL 36867 \nView the official Public Notice.
URL:https://phenixcityal.gov/events/ada-transition-plan-meeting/
LOCATION:Central Activity Center\, 1500 14th St.\, Phenix City\, AL\, 36867\, United States
CATEGORIES:Public Hearing
GEO:32.473098;-85.014788
X-APPLE-STRUCTURED-LOCATION;VALUE=URI;X-ADDRESS=Central Activity Center 1500 14th St. Phenix City AL 36867 United States;X-APPLE-RADIUS=500;X-TITLE=1500 14th St.:geo:-85.014788,32.473098
END:VEVENT
BEGIN:VEVENT
DTSTART;TZID=America/New_York:20161110T173000
DTEND;TZID=America/New_York:20161110T183000
DTSTAMP:20260419T134032
CREATED:20160315T205707Z
LAST-MODIFIED:20160316T121500Z
UID:10002361-1478799000-1478802600@phenixcityal.gov
SUMMARY:Library Board Meeting
DESCRIPTION:Members of the Phenix City-Russell County Library Board will conduct a regularly scheduled meeting at 5:30 p.m.\, Eastern Time\, at the Library:\n1501 17th Ave.\nPhenix City\, AL 36867 \nSaid meeting is open to the public.
URL:https://phenixcityal.gov/events/13409-2016-03-10/2016-11-10/
LOCATION:Phenix City-Russell County Library\, 1501 17th Ave.\, Phenix City\, AL\, 36867\, United States
CATEGORIES:Board Meeting
GEO:32.4751263;-85.0164134
X-APPLE-STRUCTURED-LOCATION;VALUE=URI;X-ADDRESS=Phenix City-Russell County Library 1501 17th Ave. Phenix City AL 36867 United States;X-APPLE-RADIUS=500;X-TITLE=1501 17th Ave.:geo:-85.0164134,32.4751263
END:VEVENT
END:VCALENDAR