BEGIN:VCALENDAR
VERSION:2.0
PRODID:-//Phenix City, Alabama - ECPv6.15.13.1//NONSGML v1.0//EN
CALSCALE:GREGORIAN
METHOD:PUBLISH
X-WR-CALNAME:Phenix City, Alabama
X-ORIGINAL-URL:https://phenixcityal.gov
X-WR-CALDESC:Events for Phenix City, Alabama
REFRESH-INTERVAL;VALUE=DURATION:PT1H
X-Robots-Tag:noindex
X-PUBLISHED-TTL:PT1H
BEGIN:VTIMEZONE
TZID:America/New_York
BEGIN:DAYLIGHT
TZOFFSETFROM:-0500
TZOFFSETTO:-0400
TZNAME:EDT
DTSTART:20150308T070000
END:DAYLIGHT
BEGIN:STANDARD
TZOFFSETFROM:-0400
TZOFFSETTO:-0500
TZNAME:EST
DTSTART:20151101T060000
END:STANDARD
BEGIN:DAYLIGHT
TZOFFSETFROM:-0500
TZOFFSETTO:-0400
TZNAME:EDT
DTSTART:20160313T070000
END:DAYLIGHT
BEGIN:STANDARD
TZOFFSETFROM:-0400
TZOFFSETTO:-0500
TZNAME:EST
DTSTART:20161106T060000
END:STANDARD
BEGIN:DAYLIGHT
TZOFFSETFROM:-0500
TZOFFSETTO:-0400
TZNAME:EDT
DTSTART:20170312T070000
END:DAYLIGHT
BEGIN:STANDARD
TZOFFSETFROM:-0400
TZOFFSETTO:-0500
TZNAME:EST
DTSTART:20171105T060000
END:STANDARD
END:VTIMEZONE
BEGIN:VEVENT
DTSTART;TZID=America/New_York:20161028T120000
DTEND;TZID=America/New_York:20161028T120000
DTSTAMP:20260419T115212
CREATED:20161005T122350Z
LAST-MODIFIED:20161005T122350Z
UID:10002318-1477656000-1477656000@phenixcityal.gov
SUMMARY:Phenix City - Russell County Chamber of Commerce Golf Tournament
DESCRIPTION:Phenix City – Russell Co. Chamber of Commerce Golf Tournament at Lakewood Golf Course\, afternoon start
URL:https://phenixcityal.gov/events/phenix-city-russell-county-chamber-commerce-golf-tournament/
LOCATION:Lakewood Golf Course\, 2800 Lakewood Drive\, Phenix City\, AL\, 36867\, United States
CATEGORIES:Golf Course
GEO:32.5036453;-85.0325704
X-APPLE-STRUCTURED-LOCATION;VALUE=URI;X-ADDRESS=Lakewood Golf Course 2800 Lakewood Drive Phenix City AL 36867 United States;X-APPLE-RADIUS=500;X-TITLE=2800 Lakewood Drive:geo:-85.0325704,32.5036453
END:VEVENT
END:VCALENDAR