BEGIN:VCALENDAR
VERSION:2.0
PRODID:-//Phenix City, Alabama - ECPv6.15.13.1//NONSGML v1.0//EN
CALSCALE:GREGORIAN
METHOD:PUBLISH
X-WR-CALNAME:Phenix City, Alabama
X-ORIGINAL-URL:https://phenixcityal.gov
X-WR-CALDESC:Events for Phenix City, Alabama
REFRESH-INTERVAL;VALUE=DURATION:PT1H
X-Robots-Tag:noindex
X-PUBLISHED-TTL:PT1H
BEGIN:VTIMEZONE
TZID:America/New_York
BEGIN:DAYLIGHT
TZOFFSETFROM:-0500
TZOFFSETTO:-0400
TZNAME:EDT
DTSTART:20150308T070000
END:DAYLIGHT
BEGIN:STANDARD
TZOFFSETFROM:-0400
TZOFFSETTO:-0500
TZNAME:EST
DTSTART:20151101T060000
END:STANDARD
BEGIN:DAYLIGHT
TZOFFSETFROM:-0500
TZOFFSETTO:-0400
TZNAME:EDT
DTSTART:20160313T070000
END:DAYLIGHT
BEGIN:STANDARD
TZOFFSETFROM:-0400
TZOFFSETTO:-0500
TZNAME:EST
DTSTART:20161106T060000
END:STANDARD
BEGIN:DAYLIGHT
TZOFFSETFROM:-0500
TZOFFSETTO:-0400
TZNAME:EDT
DTSTART:20170312T070000
END:DAYLIGHT
BEGIN:STANDARD
TZOFFSETFROM:-0400
TZOFFSETTO:-0500
TZNAME:EST
DTSTART:20171105T060000
END:STANDARD
END:VTIMEZONE
BEGIN:VEVENT
DTSTART;TZID=America/New_York:20161014T170000
DTEND;TZID=America/New_York:20161014T220000
DTSTAMP:20260419T115245
CREATED:20160930T124622Z
LAST-MODIFIED:20160930T124639Z
UID:10002416-1476464400-1476482400@phenixcityal.gov
SUMMARY:Riverfront Fall Festival Series: Car Show & Tunes
DESCRIPTION:Come out to the series finale of the Phenix City Riverfront Fall Series! The night will come together with a Las Vegas-style band\, Masters of Sole\, the hottest Motown tribute band in the south! Come see their great choreography\, colorful costumes\, and sing along to your favorite timeless songs. Explore gourmet food trucks\, alcohol exhibitors\, children’s activities\, and a Car Cruise featuring antique car clubs! The night rolls on from 5 to 10 p.m.\, Eastern Time! Free Admission!
URL:https://phenixcityal.gov/events/riverfront-fall-festival-series-car-show-tunes/
LOCATION:Whitewater Avenue\, 3rd Ave & 13th Street\, Phenix City\, AL\, 36867\, United States
CATEGORIES:Special Event
GEO:32.4709136;-84.9980929
X-APPLE-STRUCTURED-LOCATION;VALUE=URI;X-ADDRESS=Whitewater Avenue 3rd Ave & 13th Street Phenix City AL 36867 United States;X-APPLE-RADIUS=500;X-TITLE=3rd Ave & 13th Street:geo:-84.9980929,32.4709136
END:VEVENT
END:VCALENDAR